BEGIN:VCALENDAR
VERSION:2.0
PRODID:-//Filz und Kraut - ECPv6.15.20//NONSGML v1.0//EN
CALSCALE:GREGORIAN
METHOD:PUBLISH
X-ORIGINAL-URL:https://filzundkraut.at
X-WR-CALDESC:Veranstaltungen für Filz und Kraut
REFRESH-INTERVAL;VALUE=DURATION:PT1H
X-Robots-Tag:noindex
X-PUBLISHED-TTL:PT1H
BEGIN:VTIMEZONE
TZID:Europe/Berlin
BEGIN:DAYLIGHT
TZOFFSETFROM:+0100
TZOFFSETTO:+0200
TZNAME:CEST
DTSTART:20240331T010000
END:DAYLIGHT
BEGIN:STANDARD
TZOFFSETFROM:+0200
TZOFFSETTO:+0100
TZNAME:CET
DTSTART:20241027T010000
END:STANDARD
BEGIN:DAYLIGHT
TZOFFSETFROM:+0100
TZOFFSETTO:+0200
TZNAME:CEST
DTSTART:20250330T010000
END:DAYLIGHT
BEGIN:STANDARD
TZOFFSETFROM:+0200
TZOFFSETTO:+0100
TZNAME:CET
DTSTART:20251026T010000
END:STANDARD
BEGIN:DAYLIGHT
TZOFFSETFROM:+0100
TZOFFSETTO:+0200
TZNAME:CEST
DTSTART:20260329T010000
END:DAYLIGHT
BEGIN:STANDARD
TZOFFSETFROM:+0200
TZOFFSETTO:+0100
TZNAME:CET
DTSTART:20261025T010000
END:STANDARD
BEGIN:DAYLIGHT
TZOFFSETFROM:+0100
TZOFFSETTO:+0200
TZNAME:CEST
DTSTART:20270328T010000
END:DAYLIGHT
BEGIN:STANDARD
TZOFFSETFROM:+0200
TZOFFSETTO:+0100
TZNAME:CET
DTSTART:20271031T010000
END:STANDARD
BEGIN:DAYLIGHT
TZOFFSETFROM:+0100
TZOFFSETTO:+0200
TZNAME:CEST
DTSTART:20280326T010000
END:DAYLIGHT
BEGIN:STANDARD
TZOFFSETFROM:+0200
TZOFFSETTO:+0100
TZNAME:CET
DTSTART:20281029T010000
END:STANDARD
END:VTIMEZONE
BEGIN:VEVENT
DTSTART;VALUE=DATE:20250501
DTEND;VALUE=DATE:20271101
DTSTAMP:20260422T111212
CREATED:20240829T055332Z
LAST-MODIFIED:20260115T151317Z
UID:9897-1746057600-1825027199@filzundkraut.at
SUMMARY:Präsentationsständer im "s`Fachl" City Arkaden Klagenfurt
DESCRIPTION:Seit über zwei Jahren findet ihr mich im Fachl in Klagenfurt in den City Arkaden im Tiefpaterre. Mein Präsentationsständer am Platz direkt neben der Kassa enthält neben saisonunabhängigen Produkten auch jahreszeitlich angepasste gefilzte Ware wie Ostereier\, Herbstdeko und weihnachtliche Elfen\, Kugleln und Vieles mehr. Darunter findet ihr immer ausgewählte Filzarbeiten und diverse Schlüsselanhänger von mir. Vorbeischauen lohnt sich\, es gibt immer wieder Neues zu entdecken!
URL:https://filzundkraut.at/event/zwei-fachl-im-sfachl-atrio-villach/
LOCATION:City Arkaden Klagenfurt\, Heuplatz 5\, Klagenfurt\, 9020\, Österreich
CATEGORIES:Ausstellungen
ATTACH;FMTTYPE=image/jpeg:https://filzundkraut.at/wp-content/uploads/2024/08/Fachl-1.jpg
END:VEVENT
BEGIN:VEVENT
DTSTART;TZID=Europe/Berlin:20251105T130000
DTEND;TZID=Europe/Berlin:20251105T160000
DTSTAMP:20260422T111212
CREATED:20251105T090723Z
LAST-MODIFIED:20251105T090723Z
UID:10277-1762347600-1762358400@filzundkraut.at
SUMMARY:Familienfilzen Zusatztermin im Diözesanhaus
DESCRIPTION:Dies ist ein Zusatztermin am Nachmittag\, da der Vormittagstermin ausgebucht ist.  \nGemeinsames weihnachtliches Nadelfilzen für die Familie mit Kindern ab 6 Jahren in Begleitung. Ob Schneemann\, Weihnachtsmaus\, Engel oder weihnachtliche Dekoration aus Schafwolle\, der Fantasie sind fast keine Grenzen gesetzt.  \nKosten: Freiwillige Spende \nMaterialbeitrag: 6 Euro (wird vor Ort eingehoben) für alles vor Ort zu verwendende Material. \nInfos hierzu: Karin Müllner\, Tel: 0676-4102893 oder info@filzundkraut.at
URL:https://filzundkraut.at/event/familienfilzen-zusatztermin-im-dioezesanhaus/
LOCATION:Diözesanhaus Klagenfurt\, Tarviserstraße 30\, 9020 Klagenfurt\, Österreich
CATEGORIES:Nadelfilzen
ATTACH;FMTTYPE=image/jpeg:https://filzundkraut.at/wp-content/uploads/2023/09/20230923_091706.jpg
END:VEVENT
BEGIN:VEVENT
DTSTART;TZID=Europe/Berlin:20251105T170000
DTEND;TZID=Europe/Berlin:20251105T190000
DTSTAMP:20260422T111212
CREATED:20250814T054647Z
LAST-MODIFIED:20251020T052527Z
UID:10222-1762362000-1762369200@filzundkraut.at
SUMMARY:Kunterbuntes Filzen mit der Nadel der Katholischen Frauenbewegung Kärnten
DESCRIPTION:Details folgen demnächst!
URL:https://filzundkraut.at/event/herbstliches-filzen-mit-der-nadel-der-katholischen-frauenbewegung-kaernten/
ATTACH;FMTTYPE=image/jpeg:https://filzundkraut.at/wp-content/uploads/2025/06/Herbstteller-2021.jpg
END:VEVENT
BEGIN:VEVENT
DTSTART;VALUE=DATE:20251114
DTEND;VALUE=DATE:20251117
DTSTAMP:20260422T111212
CREATED:20220924T175907Z
LAST-MODIFIED:20250610T083810Z
UID:8874-1763078400-1763337599@filzundkraut.at
SUMMARY:Familienmesse Halle 3 Ausstellung
DESCRIPTION:Im Rahmen der Familien- und Brauchtumsmesse werde ich mit einem eigenen Stand im Rahmen der Hobbykünstlerausstellung 3 Tage auf der Messe vertreten sein. Genauer Lageplan folgt noch!
URL:https://filzundkraut.at/event/familienmesse-halle3-ausstellung/
LOCATION:Klagefuter Messe\, St. Ruprechter Straße\, Klagenfurt\, 9020\, Österreich
CATEGORIES:Ausstellungen
ATTACH;FMTTYPE=image/jpeg:https://filzundkraut.at/wp-content/uploads/2022/01/20220119_182113-1-scaled.jpg
END:VEVENT
BEGIN:VEVENT
DTSTART;TZID=Europe/Berlin:20251121T150000
DTEND;TZID=Europe/Berlin:20251121T180000
DTSTAMP:20260422T111212
CREATED:20230215T090452Z
LAST-MODIFIED:20250411T114615Z
UID:9048-1763737200-1763748000@filzundkraut.at
SUMMARY:Weihnachtliches Filzen für Alle beim FNL in Hunnenbrunn
DESCRIPTION:„Filzen für Alle“ ist für Kinder ab 6 Jahren in Begleitung buchbar! \nIn diesem Workshop können Erwachsene\, Eltern mit Kindern oder jeder der Lust und Laune hat seiner\nKreativität freien Lauf lassen und wunderschöne\, individuelle herbstliche Kunstwerke gestalten. \nNach einer ausführlichen Info zum Thema Nadelfilzen\, Woll- bzw. Materialbeschaffung werden individuelle Kunstwerke gefilzt.\nDabei bleiben die Hände trocken und sauber. Keine Vorkenntnisse nötig! Lass dich von der Filzsucht anstecken!\nDie gefertigten Werke inkl. einer Nadel und Filzunterlage dürfen mit nach Hause genommen werden. \nDie Anmeldung erfolgt bitte direkt über den Veranstalter FNL. Detailinfos erfolgen zeitgerecht. \n  \n 
URL:https://filzundkraut.at/event/weihnachtliches-filzen-fuer-alle-beim-fnl-in-hunnenbrunn/
LOCATION:FNL\, Schlossweg 2\, Hunnenbrunn\, 9300
CATEGORIES:Nadelfilzen
ATTACH;FMTTYPE=image/jpeg:https://filzundkraut.at/wp-content/uploads/2020/10/20201030_115921_resized.jpg
END:VEVENT
BEGIN:VEVENT
DTSTART;TZID=Europe/Berlin:20251125T100000
DTEND;TZID=Europe/Berlin:20251125T160000
DTSTAMP:20260422T111212
CREATED:20231002T072835Z
LAST-MODIFIED:20251013T144935Z
UID:9596-1764064800-1764086400@filzundkraut.at
SUMMARY:Adventmarkt Uni Klagenfurt
DESCRIPTION:Beim Adventmarkt in der Aula der Uni Klagenfurt stelle ich meine weihnachtlichen Filzarbeiten und auch weihnachtlichen Stoffdruck aus. Ich freue mich auf euren Besuch. \nDer Markt eröffnet um 10.00 Uhr und ist bis 16.00 Uhr geöffnet.
URL:https://filzundkraut.at/event/adventmarkt-uni-klagenfurt/
LOCATION:Uni\, Universitätsstraße 65-67\, Klagenfurt\, 9020\, Österreich
CATEGORIES:Ausstellungen
ATTACH;FMTTYPE=image/jpeg:https://filzundkraut.at/wp-content/uploads/2016/05/Muetzenmaus.jpg
END:VEVENT
BEGIN:VEVENT
DTSTART;TZID=Europe/Berlin:20251128T140000
DTEND;TZID=Europe/Berlin:20251128T180000
DTSTAMP:20260422T111212
CREATED:20210612T075450Z
LAST-MODIFIED:20250429T100541Z
UID:8106-1764338400-1764352800@filzundkraut.at
SUMMARY:Weihnachtliches Nadelfilzen 50+
DESCRIPTION:Weihnachtliches Filzen mit der Nadel \n  \nVier Stunden gemeinsames weihnachtliches Filzen mit der Nadel – ob Advent- oder Türkranz\, Krippenfiguren\, Schneemänner\, Weihnachtswichtel\, kleine Geschenke u.v.m. – keine Vorkenntnisse nötig. \n  \nLassen Sie sich von der Filzsucht anstecken. Die gefertigten Werke inkl. einer Nadel und Filzunterlage dürfen mit nach Hause genommen werden. \n  \nVortragende: Karin Müllner\, Filz & Kraut\, Filzbuchautorin \nKosten: 16\,- Euro inkl. Materialkosten pro Person (vor Ort zu bezahlen) \nDer Kurs findet ab einer Teilnehmerzahl von 10 Personen statt. \n  \nAnmeldung: Tel.: 0676-4102893 (Karin Müllner) bzw. info@filzundkraut.at
URL:https://filzundkraut.at/event/weihnachtliches-nadelfilzen-50/
LOCATION:Seniorenbüro Stadt Klagenfurt\, Lidmanskygasse 22\, Klagenfurt\, 9020\, Österreich
CATEGORIES:Nadelfilzen
ATTACH;FMTTYPE=image/jpeg:https://filzundkraut.at/wp-content/uploads/2016/05/Krippensatz-Pointhuber.jpg
END:VEVENT
BEGIN:VEVENT
DTSTART;TZID=Europe/Berlin:20251130T100000
DTEND;TZID=Europe/Berlin:20251130T170000
DTSTAMP:20260422T111212
CREATED:20231011T064451Z
LAST-MODIFIED:20250618T112120Z
UID:9605-1764496800-1764522000@filzundkraut.at
SUMMARY:Weihnachtsbasar Waldorfschule Klagenfurt
DESCRIPTION:Der beliebte Weihnachtsbasar in der Waldorfschule findet auch heuer wieder statt und ich bin mit meinen weihnachtlichen Nadelfilzarbeiten wieder dabei. \nFreue mich auf euren Besuch!
URL:https://filzundkraut.at/event/weihnachtsbasar-waldorfschule-klagenfurt/
LOCATION:Waldorfschule Klagenfurt\, Wilsonstraße 11\, Klagenfurt\, 9020\, Österreich
CATEGORIES:Ausstellungen
ATTACH;FMTTYPE=image/jpeg:https://filzundkraut.at/wp-content/uploads/2023/09/20230923_143701-scaled.jpg
END:VEVENT
END:VCALENDAR