BEGIN:VCALENDAR
VERSION:2.0
PRODID:-//Filz und Kraut - ECPv6.15.20//NONSGML v1.0//EN
CALSCALE:GREGORIAN
METHOD:PUBLISH
X-ORIGINAL-URL:https://filzundkraut.at
X-WR-CALDESC:Veranstaltungen für Filz und Kraut
REFRESH-INTERVAL;VALUE=DURATION:PT1H
X-Robots-Tag:noindex
X-PUBLISHED-TTL:PT1H
BEGIN:VTIMEZONE
TZID:Europe/Berlin
BEGIN:DAYLIGHT
TZOFFSETFROM:+0100
TZOFFSETTO:+0200
TZNAME:CEST
DTSTART:20210328T010000
END:DAYLIGHT
BEGIN:STANDARD
TZOFFSETFROM:+0200
TZOFFSETTO:+0100
TZNAME:CET
DTSTART:20211031T010000
END:STANDARD
BEGIN:DAYLIGHT
TZOFFSETFROM:+0100
TZOFFSETTO:+0200
TZNAME:CEST
DTSTART:20220327T010000
END:DAYLIGHT
BEGIN:STANDARD
TZOFFSETFROM:+0200
TZOFFSETTO:+0100
TZNAME:CET
DTSTART:20221030T010000
END:STANDARD
BEGIN:DAYLIGHT
TZOFFSETFROM:+0100
TZOFFSETTO:+0200
TZNAME:CEST
DTSTART:20230326T010000
END:DAYLIGHT
BEGIN:STANDARD
TZOFFSETFROM:+0200
TZOFFSETTO:+0100
TZNAME:CET
DTSTART:20231029T010000
END:STANDARD
BEGIN:DAYLIGHT
TZOFFSETFROM:+0100
TZOFFSETTO:+0200
TZNAME:CEST
DTSTART:20240331T010000
END:DAYLIGHT
BEGIN:STANDARD
TZOFFSETFROM:+0200
TZOFFSETTO:+0100
TZNAME:CET
DTSTART:20241027T010000
END:STANDARD
BEGIN:DAYLIGHT
TZOFFSETFROM:+0100
TZOFFSETTO:+0200
TZNAME:CEST
DTSTART:20250330T010000
END:DAYLIGHT
BEGIN:STANDARD
TZOFFSETFROM:+0200
TZOFFSETTO:+0100
TZNAME:CET
DTSTART:20251026T010000
END:STANDARD
BEGIN:DAYLIGHT
TZOFFSETFROM:+0100
TZOFFSETTO:+0200
TZNAME:CEST
DTSTART:20260329T010000
END:DAYLIGHT
BEGIN:STANDARD
TZOFFSETFROM:+0200
TZOFFSETTO:+0100
TZNAME:CET
DTSTART:20261025T010000
END:STANDARD
END:VTIMEZONE
BEGIN:VEVENT
DTSTART;TZID=Europe/Berlin:20220523T080000
DTEND;TZID=Europe/Berlin:20250531T170000
DTSTAMP:20260422T234010
CREATED:20220523T105836Z
LAST-MODIFIED:20240829T055637Z
UID:8735-1653292800-1748710800@filzundkraut.at
SUMMARY:Zwei Fachl im "s`Fachl" Klagenfurt City Arkaden
DESCRIPTION:Seit Mai 2022 besitze ich ein Fachl im „Fachl Klagenfurt“ in den City Arkaden. Ihr findet mich in der Nähe des Kassenbereichs\, meine Ware wird laufend ergänzt und auf eure Wünsche angepasst.  \nJuni 2023 wurde eine zweite Fläche im Fachl angemietet\, direkt im Kassabereich mit gefilzten Eflen\, Hexen und Meerjungfrauen. \nViel Freude beim Stöbern!
URL:https://filzundkraut.at/event/ein-fachl-im-fachl/
LOCATION:City Arkaden Klagenfurt\, Heuplatz 5\, Klagenfurt\, 9020\, Österreich
CATEGORIES:Ausstellungen
ATTACH;FMTTYPE=image/jpeg:https://filzundkraut.at/wp-content/uploads/2022/05/Fachl-Mai-2022.jpg
END:VEVENT
BEGIN:VEVENT
DTSTART;TZID=Europe/Berlin:20250312T143000
DTEND;TZID=Europe/Berlin:20250312T170000
DTSTAMP:20260422T234010
CREATED:20221026T164907Z
LAST-MODIFIED:20241022T194526Z
UID:8926-1741789800-1741798800@filzundkraut.at
SUMMARY:Knospenwanderung am Kreuzbergl
DESCRIPTION:Baum- und Strauchknospen erkennen\, benennen und selbst für Gemmomazerate  anwenden lernen \nKnospen und Triebspitzen werden seit vielen hundert Jahren in der Volksheilkunde genutzt\, da sie eine ausgezeichnete Heil- und Regenerationskraft besitzen. Als ausgebildete FNL-Knospenexpertin möchte ich Ihnen dieses Embryonalgewebe der Pflanzen näherbringen\, gemeinsam die wichtigsten Baum- und Strauchknospen im heimischen Wald besprechen und die Gemmotherapie mit zahlreichen Anwendungsbeispielen erklären. Dabei sammeln wir unterwegs ein paar ausgewählte Knospen\, verkosten diese und setzen unser erstes Gemmomazerat gemeinsam an. Die Knospen können auch einfach in den täglichen Speiseplan eingebaut werden. \nReferentin:   Karin Müllner\, FNL-Knospenexpertin\, FNL-Kräuterexpertin\, Firma Filz & Kraut \nOrt:              Kreuzbergl\, Treffpunkt Fischerwirt \nPreis:           pro Person und Termin 18\,- Euro (im Kurspreis enthalten sind alle Materialien und eine umfangreiche Unterlage (inkl. Farbfotos der Knospen)  \nAnmeldung: Karin Müllner\, Tel: 0676-4102893\, info@filzundkraut.at
URL:https://filzundkraut.at/event/knospenwanderung-am-kreuzbergl-2/
LOCATION:Kreuzbergl Klagenfurt
CATEGORIES:Wildkräuter
ATTACH;FMTTYPE=image/jpeg:https://filzundkraut.at/wp-content/uploads/2022/02/Nussbaum.jpg
END:VEVENT
BEGIN:VEVENT
DTSTART;TZID=Europe/Berlin:20250321T140000
DTEND;TZID=Europe/Berlin:20250321T180000
DTSTAMP:20260422T234010
CREATED:20221026T154649Z
LAST-MODIFIED:20241205T170148Z
UID:8919-1742565600-1742580000@filzundkraut.at
SUMMARY:Frühlings- und Osterfilzen 50+
DESCRIPTION:Nach einer ausführlichen Info zum Thema Nadelfilzen\, Woll- bzw. Materialbeschaffung werden individuell \nOstereier\, (Oster)Hasen\, Küken\, Hühner\, Blüten\, Türkränze und Frühlingsschmuck gefilzt. \nDabei bleiben die Hände trocken und sauber. \nKeine Vorkenntnisse nötig! Lassen Sie sich von der Filzsucht anstecken! \nDie gefertigten Werke inkl. einer Nadel und Filzunterlage dürfen mit nach Hause genommen werden. \nVortragende: Karin Müllner\, Filz & Kraut\, Filzbuchautorin \nKosten: 16\,- inklusive Materialkosten\nMindestteilnehmerzahl: 10 Personen \nAnmelden und Infos:\nKarin Müllner\, Tel. 0676-4102893\, info@filzundkraut.at
URL:https://filzundkraut.at/event/terminaviso-fruehlings-und-osterfilzen-50/
LOCATION:Seniorenbüro Stadt Klagenfurt\, Lidmanskygasse 22\, Klagenfurt\, 9020\, Österreich
CATEGORIES:Nadelfilzen
ATTACH;FMTTYPE=image/jpeg:https://filzundkraut.at/wp-content/uploads/2021/02/Ostereier2021.jpg
END:VEVENT
BEGIN:VEVENT
DTSTART;TZID=Europe/Berlin:20250328T100000
DTEND;TZID=Europe/Berlin:20250330T180000
DTSTAMP:20260422T234010
CREATED:20250123T091838Z
LAST-MODIFIED:20250123T091838Z
UID:10038-1743156000-1743357600@filzundkraut.at
SUMMARY:Schloss Farrach Osterausstellung
DESCRIPTION:Heuer nehme ich erstmals an der schönen Osterausstellung im Schloss Farrach teil.  \nNähere Infos zur Veranstaltung findet ihr in nachstehendem Link: \nhttps://www.schlossfarrach.at/kultur/osteraustellung/ \nDie Öffnungszeiten sind: \nFR 12-18h\, SA+SO 10-18h
URL:https://filzundkraut.at/event/schloss-farrach-osterausstellung/
LOCATION:Schloss Farrach\, Zeltweg West\, Zeltweg\, 8740
CATEGORIES:Ausstellungen
ATTACH;FMTTYPE=image/jpeg:https://filzundkraut.at/wp-content/uploads/2025/01/20230204_105155_resized_1.jpg
END:VEVENT
END:VCALENDAR