BEGIN:VCALENDAR
VERSION:2.0
PRODID:-//Filz und Kraut - ECPv6.15.20//NONSGML v1.0//EN
CALSCALE:GREGORIAN
METHOD:PUBLISH
X-WR-CALNAME:Filz und Kraut
X-ORIGINAL-URL:https://filzundkraut.at
X-WR-CALDESC:Veranstaltungen für Filz und Kraut
REFRESH-INTERVAL;VALUE=DURATION:PT1H
X-Robots-Tag:noindex
X-PUBLISHED-TTL:PT1H
BEGIN:VTIMEZONE
TZID:Europe/Berlin
BEGIN:DAYLIGHT
TZOFFSETFROM:+0100
TZOFFSETTO:+0200
TZNAME:CEST
DTSTART:20210328T010000
END:DAYLIGHT
BEGIN:STANDARD
TZOFFSETFROM:+0200
TZOFFSETTO:+0100
TZNAME:CET
DTSTART:20211031T010000
END:STANDARD
BEGIN:DAYLIGHT
TZOFFSETFROM:+0100
TZOFFSETTO:+0200
TZNAME:CEST
DTSTART:20220327T010000
END:DAYLIGHT
BEGIN:STANDARD
TZOFFSETFROM:+0200
TZOFFSETTO:+0100
TZNAME:CET
DTSTART:20221030T010000
END:STANDARD
BEGIN:DAYLIGHT
TZOFFSETFROM:+0100
TZOFFSETTO:+0200
TZNAME:CEST
DTSTART:20230326T010000
END:DAYLIGHT
BEGIN:STANDARD
TZOFFSETFROM:+0200
TZOFFSETTO:+0100
TZNAME:CET
DTSTART:20231029T010000
END:STANDARD
BEGIN:DAYLIGHT
TZOFFSETFROM:+0100
TZOFFSETTO:+0200
TZNAME:CEST
DTSTART:20240331T010000
END:DAYLIGHT
BEGIN:STANDARD
TZOFFSETFROM:+0200
TZOFFSETTO:+0100
TZNAME:CET
DTSTART:20241027T010000
END:STANDARD
BEGIN:DAYLIGHT
TZOFFSETFROM:+0100
TZOFFSETTO:+0200
TZNAME:CEST
DTSTART:20250330T010000
END:DAYLIGHT
BEGIN:STANDARD
TZOFFSETFROM:+0200
TZOFFSETTO:+0100
TZNAME:CET
DTSTART:20251026T010000
END:STANDARD
BEGIN:DAYLIGHT
TZOFFSETFROM:+0100
TZOFFSETTO:+0200
TZNAME:CEST
DTSTART:20260329T010000
END:DAYLIGHT
BEGIN:STANDARD
TZOFFSETFROM:+0200
TZOFFSETTO:+0100
TZNAME:CET
DTSTART:20261025T010000
END:STANDARD
END:VTIMEZONE
BEGIN:VEVENT
DTSTART;TZID=Europe/Berlin:20220523T080000
DTEND;TZID=Europe/Berlin:20250531T170000
DTSTAMP:20260423T040631
CREATED:20220523T105836Z
LAST-MODIFIED:20240829T055637Z
UID:8735-1653292800-1748710800@filzundkraut.at
SUMMARY:Zwei Fachl im "s`Fachl" Klagenfurt City Arkaden
DESCRIPTION:Seit Mai 2022 besitze ich ein Fachl im „Fachl Klagenfurt“ in den City Arkaden. Ihr findet mich in der Nähe des Kassenbereichs\, meine Ware wird laufend ergänzt und auf eure Wünsche angepasst.  \nJuni 2023 wurde eine zweite Fläche im Fachl angemietet\, direkt im Kassabereich mit gefilzten Eflen\, Hexen und Meerjungfrauen. \nViel Freude beim Stöbern!
URL:https://filzundkraut.at/event/ein-fachl-im-fachl/
LOCATION:City Arkaden Klagenfurt\, Heuplatz 5\, Klagenfurt\, 9020\, Österreich
CATEGORIES:Ausstellungen
ATTACH;FMTTYPE=image/jpeg:https://filzundkraut.at/wp-content/uploads/2022/05/Fachl-Mai-2022.jpg
END:VEVENT
BEGIN:VEVENT
DTSTART;TZID=Europe/Berlin:20250131T150000
DTEND;TZID=Europe/Berlin:20250131T180000
DTSTAMP:20260423T040631
CREATED:20241022T194929Z
LAST-MODIFIED:20241022T194929Z
UID:9975-1738335600-1738346400@filzundkraut.at
SUMMARY:Die Kraft der heimischen Strauch- und Baumknospen nutzen
DESCRIPTION:Baum- und Strauchknospen erkennen\, benennen und für die eigene Gesundheit nutzen! \n  \nKnospen und Triebspitzen werden seit vielen hundert Jahren in der Volksheilkunde genutzt\, da sie eine ausgezeichnete Heil- und Regenerationskraft besitzen. Als ausgebildete FNL-Knospenexpertin möchte ich Ihnen dieses Embryonalgewebe der Pflanzen näherbringen\, gemeinsam die wichtigsten Baum- und Strauchknospen im heimischen Wald besprechen und die Gemmotherapie mit zahlreichen Anwendungsbeispielen erklären. Dabei sammeln wir unterwegs ein paar ausgewählte Knospen\, verkosten diese und setzen unser erstes Gemmomazerat gemeinsam an. Die Knospen können auch einfach in den täglichen Speiseplan eingebaut werden. \nWeiters stellen wir gemeinsam für jede TeilnehmerIn ein Knospensalz zum Mitnehmen her. \nEin Teil des Kurses findet im Freien statt\, bitte geeignetes Schuhwerk und warme Kleidung mitnehmen. \nDetails zur Anmeldung folgen noch! \nReferentin: Karin Müllner\, FNL-Knospenexpertin\, FNL-Kräuterexpertin\, Firma Filz & Kraut
URL:https://filzundkraut.at/event/die-kraft-der-heimischen-strauch-und-baumknospen-nutzen/
LOCATION:Sodalitas\, Propsteiweg 1\, Tainach\, Kärnten\, 9121\, Österreich
CATEGORIES:Wildkräuter
ATTACH;FMTTYPE=image/jpeg:https://filzundkraut.at/wp-content/uploads/2024/07/Nussbaum.jpg
END:VEVENT
END:VCALENDAR