BEGIN:VCALENDAR
VERSION:2.0
PRODID:-//Filz und Kraut - ECPv6.15.20//NONSGML v1.0//EN
CALSCALE:GREGORIAN
METHOD:PUBLISH
X-ORIGINAL-URL:https://filzundkraut.at
X-WR-CALDESC:Veranstaltungen für Filz und Kraut
REFRESH-INTERVAL;VALUE=DURATION:PT1H
X-Robots-Tag:noindex
X-PUBLISHED-TTL:PT1H
BEGIN:VTIMEZONE
TZID:Europe/Berlin
BEGIN:DAYLIGHT
TZOFFSETFROM:+0100
TZOFFSETTO:+0200
TZNAME:CEST
DTSTART:20210328T010000
END:DAYLIGHT
BEGIN:STANDARD
TZOFFSETFROM:+0200
TZOFFSETTO:+0100
TZNAME:CET
DTSTART:20211031T010000
END:STANDARD
BEGIN:DAYLIGHT
TZOFFSETFROM:+0100
TZOFFSETTO:+0200
TZNAME:CEST
DTSTART:20220327T010000
END:DAYLIGHT
BEGIN:STANDARD
TZOFFSETFROM:+0200
TZOFFSETTO:+0100
TZNAME:CET
DTSTART:20221030T010000
END:STANDARD
BEGIN:DAYLIGHT
TZOFFSETFROM:+0100
TZOFFSETTO:+0200
TZNAME:CEST
DTSTART:20230326T010000
END:DAYLIGHT
BEGIN:STANDARD
TZOFFSETFROM:+0200
TZOFFSETTO:+0100
TZNAME:CET
DTSTART:20231029T010000
END:STANDARD
BEGIN:DAYLIGHT
TZOFFSETFROM:+0100
TZOFFSETTO:+0200
TZNAME:CEST
DTSTART:20240331T010000
END:DAYLIGHT
BEGIN:STANDARD
TZOFFSETFROM:+0200
TZOFFSETTO:+0100
TZNAME:CET
DTSTART:20241027T010000
END:STANDARD
BEGIN:DAYLIGHT
TZOFFSETFROM:+0100
TZOFFSETTO:+0200
TZNAME:CEST
DTSTART:20250330T010000
END:DAYLIGHT
BEGIN:STANDARD
TZOFFSETFROM:+0200
TZOFFSETTO:+0100
TZNAME:CET
DTSTART:20251026T010000
END:STANDARD
BEGIN:DAYLIGHT
TZOFFSETFROM:+0100
TZOFFSETTO:+0200
TZNAME:CEST
DTSTART:20260329T010000
END:DAYLIGHT
BEGIN:STANDARD
TZOFFSETFROM:+0200
TZOFFSETTO:+0100
TZNAME:CET
DTSTART:20261025T010000
END:STANDARD
END:VTIMEZONE
BEGIN:VEVENT
DTSTART;TZID=Europe/Berlin:20220523T080000
DTEND;TZID=Europe/Berlin:20250531T170000
DTSTAMP:20260423T143537
CREATED:20220523T105836Z
LAST-MODIFIED:20240829T055637Z
UID:8735-1653292800-1748710800@filzundkraut.at
SUMMARY:Zwei Fachl im "s`Fachl" Klagenfurt City Arkaden
DESCRIPTION:Seit Mai 2022 besitze ich ein Fachl im „Fachl Klagenfurt“ in den City Arkaden. Ihr findet mich in der Nähe des Kassenbereichs\, meine Ware wird laufend ergänzt und auf eure Wünsche angepasst.  \nJuni 2023 wurde eine zweite Fläche im Fachl angemietet\, direkt im Kassabereich mit gefilzten Eflen\, Hexen und Meerjungfrauen. \nViel Freude beim Stöbern!
URL:https://filzundkraut.at/event/ein-fachl-im-fachl/
LOCATION:City Arkaden Klagenfurt\, Heuplatz 5\, Klagenfurt\, 9020\, Österreich
CATEGORIES:Ausstellungen
ATTACH;FMTTYPE=image/jpeg:https://filzundkraut.at/wp-content/uploads/2022/05/Fachl-Mai-2022.jpg
END:VEVENT
BEGIN:VEVENT
DTSTART;TZID=Europe/Berlin:20240413T090000
DTEND;TZID=Europe/Berlin:20240413T120000
DTSTAMP:20260423T143537
CREATED:20231116T090610Z
LAST-MODIFIED:20231116T090903Z
UID:9634-1712998800-1713009600@filzundkraut.at
SUMMARY:TERMINAVISO Wilde Natur Familienkräuterveranstaltung
DESCRIPTION:Gemeinsames spielerisches Kennenlernen der wichtigsten Wildkräuter und deren Verwendung. Fühlen\, schmecken\, riechen und natürlich verkosten: hierzu sammeln wir gemeinsam die Wildkräuter und stellen einen Kräutertopfen her. Das Kräutersalz wird ebenfalls vor Ort gemörsert und darf natürlich mit nach Hause genommen werden. \nMaterialkosten pro Person 5\,- Euro \nWeitere Details folgen!
URL:https://filzundkraut.at/event/terminaviso-wilde-natur-familienkraeuterveranstaltung/
LOCATION:Tainach\, Propsteiweg 1\, Tainach\, 9121\, Österreich
CATEGORIES:Wildkräuter
ATTACH;FMTTYPE=image/jpeg:https://filzundkraut.at/wp-content/uploads/2016/05/20190803_141134_resized.jpg
END:VEVENT
BEGIN:VEVENT
DTSTART;TZID=Europe/Berlin:20240424T143000
DTEND;TZID=Europe/Berlin:20240424T173000
DTSTAMP:20260423T143537
CREATED:20220118T162349Z
LAST-MODIFIED:20240423T094611Z
UID:8464-1713969000-1713979800@filzundkraut.at
SUMMARY:ABSAGE aufgrund SCHNEEFALL - Frühlingskräuterlustwandeln am Radsberg
DESCRIPTION:Wir erlernen gemeinsam das Bestimmen der wichtigsten Frühlings-Wildkräuter\, erfahren mehr über ihre Inhaltsstoffe und Wirkweisen\, besprechen viele praktische Anwendungsbeispiele und Rezepte. Dabei wandern wir einen kurzen Weg entlang dem Radsberg und machen uns gemeinsam auf die Suche. Am Ende stellen wir gemeinsam ein Kräutersalz mit selbst gesammelten Kräutern vor Ort für jeden Teilnehmer her. \nTreffpunkt: 14.30 Uhr beim Schlosswirt in Ebenthal\, von dort aus bilden wir Fahrgemeinschaften bzw. fahren im Konvoi auf den Radsberg. \nDie Veranstaltung findet bei Regen NICHT statt. \nAnmeldung: Karin Müllner\, Tel: 0676-4102893 bzw. info@filzundkraut.at \nUnkostenbeitrag: 15 Euro
URL:https://filzundkraut.at/event/terminaviso-fruehlingskraeuterlustwandeln-am-radsberg-2/
LOCATION:Radsberg\, Radsberg 4\, 9065 Ebenthal\, Kärnten\, Österreich
CATEGORIES:Wildkräuter
ATTACH;FMTTYPE=image/jpeg:https://filzundkraut.at/wp-content/uploads/2019/06/20190602_115245.jpg
END:VEVENT
BEGIN:VEVENT
DTSTART;TZID=Europe/Berlin:20240427T093000
DTEND;TZID=Europe/Berlin:20240427T140000
DTSTAMP:20260423T143537
CREATED:20240410T072907Z
LAST-MODIFIED:20240410T073229Z
UID:9756-1714210200-1714226400@filzundkraut.at
SUMMARY:Wildkräuterinfos am Tag der offenen Türe Gärnterei Hafner
DESCRIPTION:Beim Tag der offenen Türe der Gärtnereien bin ich in der Gärntnerei Hafner mit Fragen rund um die Frühlingskräuter anzutreffen! \nThema: Die Kraft der Frühlingskräuter wartet nur darauf\, von uns genutzt zu werden!  \nWie kann ich mir täglich mit den (Wild)kräutern Gutes tun und sie ganz einfach in meinen Alltag integrieren? Welche Kräuter wachsen jetzt vor meiner Haustüre und welchen Nutzen haben sie für mich? \nViele verschiedene Verarbeitungsmöglichkeiten von Oxymel über Hustenhonig bis Tinkturen werden vor Ort präsentiert und erklärt. Gemeinsam wird aus (Wild)kräutern ein Salz zum Mitnehmen für jeden Gast gemörsert. \nEs werden auch nadelgefilzte Unikate und Stoffdruckarbeiten aus natürlichen Blättern in Kombination mit Stoffdruckmodeln von mir in einer kleinen Verkaufsausstellung gezeigt werden. \nDatum: 27. April 9.30 bis 14.00 Uhr
URL:https://filzundkraut.at/event/wildkraeuterinfos-tag-der-offenen-tuere-gaernterei-hafner/
LOCATION:Gärtnerei Hafner\, Gradenegg 43\, Moosburg\, 9063\, Österreich
CATEGORIES:Wildkräuter
ATTACH;FMTTYPE=image/jpeg:https://filzundkraut.at/wp-content/uploads/2024/04/20240401_101117.jpg
END:VEVENT
END:VCALENDAR