BEGIN:VCALENDAR
VERSION:2.0
PRODID:-//Filz und Kraut - ECPv6.15.20//NONSGML v1.0//EN
CALSCALE:GREGORIAN
METHOD:PUBLISH
X-WR-CALNAME:Filz und Kraut
X-ORIGINAL-URL:https://filzundkraut.at
X-WR-CALDESC:Veranstaltungen für Filz und Kraut
REFRESH-INTERVAL;VALUE=DURATION:PT1H
X-Robots-Tag:noindex
X-PUBLISHED-TTL:PT1H
BEGIN:VTIMEZONE
TZID:Europe/Berlin
BEGIN:DAYLIGHT
TZOFFSETFROM:+0100
TZOFFSETTO:+0200
TZNAME:CEST
DTSTART:20210328T010000
END:DAYLIGHT
BEGIN:STANDARD
TZOFFSETFROM:+0200
TZOFFSETTO:+0100
TZNAME:CET
DTSTART:20211031T010000
END:STANDARD
BEGIN:DAYLIGHT
TZOFFSETFROM:+0100
TZOFFSETTO:+0200
TZNAME:CEST
DTSTART:20220327T010000
END:DAYLIGHT
BEGIN:STANDARD
TZOFFSETFROM:+0200
TZOFFSETTO:+0100
TZNAME:CET
DTSTART:20221030T010000
END:STANDARD
BEGIN:DAYLIGHT
TZOFFSETFROM:+0100
TZOFFSETTO:+0200
TZNAME:CEST
DTSTART:20230326T010000
END:DAYLIGHT
BEGIN:STANDARD
TZOFFSETFROM:+0200
TZOFFSETTO:+0100
TZNAME:CET
DTSTART:20231029T010000
END:STANDARD
BEGIN:DAYLIGHT
TZOFFSETFROM:+0100
TZOFFSETTO:+0200
TZNAME:CEST
DTSTART:20240331T010000
END:DAYLIGHT
BEGIN:STANDARD
TZOFFSETFROM:+0200
TZOFFSETTO:+0100
TZNAME:CET
DTSTART:20241027T010000
END:STANDARD
BEGIN:DAYLIGHT
TZOFFSETFROM:+0100
TZOFFSETTO:+0200
TZNAME:CEST
DTSTART:20250330T010000
END:DAYLIGHT
BEGIN:STANDARD
TZOFFSETFROM:+0200
TZOFFSETTO:+0100
TZNAME:CET
DTSTART:20251026T010000
END:STANDARD
BEGIN:DAYLIGHT
TZOFFSETFROM:+0100
TZOFFSETTO:+0200
TZNAME:CEST
DTSTART:20260329T010000
END:DAYLIGHT
BEGIN:STANDARD
TZOFFSETFROM:+0200
TZOFFSETTO:+0100
TZNAME:CET
DTSTART:20261025T010000
END:STANDARD
END:VTIMEZONE
BEGIN:VEVENT
DTSTART;TZID=Europe/Berlin:20220523T080000
DTEND;TZID=Europe/Berlin:20250531T170000
DTSTAMP:20260423T230730
CREATED:20220523T105836Z
LAST-MODIFIED:20240829T055637Z
UID:8735-1653292800-1748710800@filzundkraut.at
SUMMARY:Zwei Fachl im "s`Fachl" Klagenfurt City Arkaden
DESCRIPTION:Seit Mai 2022 besitze ich ein Fachl im „Fachl Klagenfurt“ in den City Arkaden. Ihr findet mich in der Nähe des Kassenbereichs\, meine Ware wird laufend ergänzt und auf eure Wünsche angepasst.  \nJuni 2023 wurde eine zweite Fläche im Fachl angemietet\, direkt im Kassabereich mit gefilzten Eflen\, Hexen und Meerjungfrauen. \nViel Freude beim Stöbern!
URL:https://filzundkraut.at/event/ein-fachl-im-fachl/
LOCATION:City Arkaden Klagenfurt\, Heuplatz 5\, Klagenfurt\, 9020\, Österreich
CATEGORIES:Ausstellungen
ATTACH;FMTTYPE=image/jpeg:https://filzundkraut.at/wp-content/uploads/2022/05/Fachl-Mai-2022.jpg
END:VEVENT
BEGIN:VEVENT
DTSTART;TZID=Europe/Berlin:20231002T180000
DTEND;TZID=Europe/Berlin:20231002T210000
DTSTAMP:20260423T230730
CREATED:20230922T072641Z
LAST-MODIFIED:20230922T072641Z
UID:9435-1696269600-1696280400@filzundkraut.at
SUMMARY:Herbstliches Filzen mit der Nadel
DESCRIPTION:Hast du das Gefühl\, dass deine Arbeit ohne Ergebnis bleibt? Möchtest du einen kreativen Output? Dann bist du bei\nuns genau richtig. Komm zum Nadelfilzen! \nKreativ sein mit Anleitung und ein Ergebnis zum Mitnehmen. Alles an einem Abend. Wir freuen uns auf dich. \nKreativität ist die Intelligenz\, die Spaß macht! \nKOSTEN: € 6\,– pro Person\, sämtliche Materialien werden zur Verfügung gestellt. \nANMELDUNG: per SMS bei MMag.a Andrea Oitzinger-Hopfgartner unter 0650 6013396
URL:https://filzundkraut.at/event/herbstliches-filzen-mit-der-nadel/
LOCATION:Pfarre Heiligste Dreifaltigkeit\, Paulapromenade 18\, Villach\, 9500\, Österreich
CATEGORIES:Nadelfilzen
ATTACH;FMTTYPE=image/jpeg:https://filzundkraut.at/wp-content/uploads/2019/10/20230903_184338-scaled.jpg
END:VEVENT
BEGIN:VEVENT
DTSTART;TZID=Europe/Berlin:20231005T163000
DTEND;TZID=Europe/Berlin:20231005T183000
DTSTAMP:20260423T230730
CREATED:20230913T152703Z
LAST-MODIFIED:20230920T060645Z
UID:9344-1696523400-1696530600@filzundkraut.at
SUMMARY:Wildkräuter im Herbst und Verwendung der Rosskastanie - Seniorenbüro
DESCRIPTION:Bürgermeister Christian Scheider und das Seniorenbüro der Landeshauptstadt Klagenfurt a.W. laden herzlich ein! \nVortrag mit Workshop: Die Kraft der Wildkräuter findet man im Herbst vor allem in den Wurzeln und Beeren. Wie kann ich diese nutzen und für den langen Winter aufheben? Welche Wurzeln können einfach geerntet und verwendet werden? Die Rosskastanie und der Efeu bieten eine grüne Alternative zu herkömmlichen Waschmitteln. Die bei uns häufig vorkommende Rosskastanie kann aber auch als Universalreiniger\, Flüssigseife\, in der Kosmetik und als venenstärkender Spray verwendet werden. \nGemeinsam stellen wir eine Venensalbe her und probieren die Waschkraft der Rosskastanie aus. \nVortragende: Karin Müllner\, Filz & Kraut\, FNL-Kräuterexpertin\, FNL-Knospenexpertin \nDer Vortrag ist kostenlos und ohne Anmeldung  \nInfos unter: Tel 0676-4102893 (Karin Müllner)
URL:https://filzundkraut.at/event/wildkraeuter-im-herbst-und-verwendung-rosskastanie-seniorenbuero/
LOCATION:Seniorenbüro Stadt Klagenfurt\, Lidmanskygasse 22\, Klagenfurt\, 9020\, Österreich
CATEGORIES:Wildkräuter
ATTACH;FMTTYPE=image/jpeg:https://filzundkraut.at/wp-content/uploads/2016/05/20211123_154018_resized.jpg
END:VEVENT
BEGIN:VEVENT
DTSTART;TZID=Europe/Berlin:20231006T093000
DTEND;TZID=Europe/Berlin:20231006T153000
DTSTAMP:20260423T230730
CREATED:20230913T145944Z
LAST-MODIFIED:20230913T150327Z
UID:9340-1696584600-1696606200@filzundkraut.at
SUMMARY:Herbstliche Nadelfilzwerkstatt - Kreativtage im Seniorenbüro Klagenfurt
DESCRIPTION:Bürgermeister Christian Scheider und das Seniorenbüro laden herzlich zur HERBSTLICHEN NADELFILZWERKSTATT ein. \nAus reiner Schafwolle zaubern wir gemeinsam mit der Filznadel kuschelige Igel\, kunterbunte Kürbisse\, Eicheln\, Kastanien und bunte Blätter. Ein kleines Eichhörnchen entsteht ebenso aus Schafwolle wie verschiedene Mäusevarianten. \nEinfach nach Lust und Laune vorbeikommen und kostenlos mitmachen! \nLeitung Filzwerkstatt: Karin Müllner\nTeilnahme kostenlos\, keine Anmeldung nötig \nInfos unter Tel: 0676-4102893 (Karin Müllner)
URL:https://filzundkraut.at/event/herbstliche-nadelfilzwerkstatt-kreativtage-im-seniorenbuero-klagenfurt/
LOCATION:Seniorenbüro Stadt Klagenfurt\, Lidmanskygasse 22\, Klagenfurt\, 9020\, Österreich
CATEGORIES:Nadelfilzen
ATTACH;FMTTYPE=image/jpeg:https://filzundkraut.at/wp-content/uploads/2016/05/Elfenkranz-scaled.jpg
END:VEVENT
BEGIN:VEVENT
DTSTART;TZID=Europe/Berlin:20231015T100000
DTEND;TZID=Europe/Berlin:20231015T170000
DTSTAMP:20260423T230730
CREATED:20220824T050150Z
LAST-MODIFIED:20230902T192632Z
UID:8859-1697364000-1697389200@filzundkraut.at
SUMMARY:Kräuter- und Kunstmarkt Keltenwelt FRÖG
DESCRIPTION:Beim alljährlichen FNL-Kräutertag mit Kunsthandwerksmarkt in der Keltenwelt Frög verkaufe ich wieder meine Kräuterdruck- und Filzarbeiten. \nEs finden auch interessante FNL-Kräutervorträge statt. Detailliertes Programm folgt noch!
URL:https://filzundkraut.at/event/kraeuter-und-kunstmarkt-keltenwelt-froeg/
LOCATION:Keltenwelt Frög\, Bergweg 22\, Frög\, 9232\, Österreich
CATEGORIES:Ausstellungen
ATTACH;FMTTYPE=image/jpeg:https://filzundkraut.at/wp-content/uploads/2016/05/Meisterwurz-1-scaled.jpg
END:VEVENT
END:VCALENDAR