BEGIN:VCALENDAR
VERSION:2.0
PRODID:-//Filz und Kraut - ECPv6.15.20//NONSGML v1.0//EN
CALSCALE:GREGORIAN
METHOD:PUBLISH
X-WR-CALNAME:Filz und Kraut
X-ORIGINAL-URL:https://filzundkraut.at
X-WR-CALDESC:Veranstaltungen für Filz und Kraut
REFRESH-INTERVAL;VALUE=DURATION:PT1H
X-Robots-Tag:noindex
X-PUBLISHED-TTL:PT1H
BEGIN:VTIMEZONE
TZID:Europe/Berlin
BEGIN:DAYLIGHT
TZOFFSETFROM:+0100
TZOFFSETTO:+0200
TZNAME:CEST
DTSTART:20210328T010000
END:DAYLIGHT
BEGIN:STANDARD
TZOFFSETFROM:+0200
TZOFFSETTO:+0100
TZNAME:CET
DTSTART:20211031T010000
END:STANDARD
BEGIN:DAYLIGHT
TZOFFSETFROM:+0100
TZOFFSETTO:+0200
TZNAME:CEST
DTSTART:20220327T010000
END:DAYLIGHT
BEGIN:STANDARD
TZOFFSETFROM:+0200
TZOFFSETTO:+0100
TZNAME:CET
DTSTART:20221030T010000
END:STANDARD
BEGIN:DAYLIGHT
TZOFFSETFROM:+0100
TZOFFSETTO:+0200
TZNAME:CEST
DTSTART:20230326T010000
END:DAYLIGHT
BEGIN:STANDARD
TZOFFSETFROM:+0200
TZOFFSETTO:+0100
TZNAME:CET
DTSTART:20231029T010000
END:STANDARD
BEGIN:DAYLIGHT
TZOFFSETFROM:+0100
TZOFFSETTO:+0200
TZNAME:CEST
DTSTART:20240331T010000
END:DAYLIGHT
BEGIN:STANDARD
TZOFFSETFROM:+0200
TZOFFSETTO:+0100
TZNAME:CET
DTSTART:20241027T010000
END:STANDARD
BEGIN:DAYLIGHT
TZOFFSETFROM:+0100
TZOFFSETTO:+0200
TZNAME:CEST
DTSTART:20250330T010000
END:DAYLIGHT
BEGIN:STANDARD
TZOFFSETFROM:+0200
TZOFFSETTO:+0100
TZNAME:CET
DTSTART:20251026T010000
END:STANDARD
BEGIN:DAYLIGHT
TZOFFSETFROM:+0100
TZOFFSETTO:+0200
TZNAME:CEST
DTSTART:20260329T010000
END:DAYLIGHT
BEGIN:STANDARD
TZOFFSETFROM:+0200
TZOFFSETTO:+0100
TZNAME:CET
DTSTART:20261025T010000
END:STANDARD
END:VTIMEZONE
BEGIN:VEVENT
DTSTART;TZID=Europe/Berlin:20220523T080000
DTEND;TZID=Europe/Berlin:20250531T170000
DTSTAMP:20260424T174047
CREATED:20220523T105836Z
LAST-MODIFIED:20240829T055637Z
UID:8735-1653292800-1748710800@filzundkraut.at
SUMMARY:Zwei Fachl im "s`Fachl" Klagenfurt City Arkaden
DESCRIPTION:Seit Mai 2022 besitze ich ein Fachl im „Fachl Klagenfurt“ in den City Arkaden. Ihr findet mich in der Nähe des Kassenbereichs\, meine Ware wird laufend ergänzt und auf eure Wünsche angepasst.  \nJuni 2023 wurde eine zweite Fläche im Fachl angemietet\, direkt im Kassabereich mit gefilzten Eflen\, Hexen und Meerjungfrauen. \nViel Freude beim Stöbern!
URL:https://filzundkraut.at/event/ein-fachl-im-fachl/
LOCATION:City Arkaden Klagenfurt\, Heuplatz 5\, Klagenfurt\, 9020\, Österreich
CATEGORIES:Ausstellungen
ATTACH;FMTTYPE=image/jpeg:https://filzundkraut.at/wp-content/uploads/2022/05/Fachl-Mai-2022.jpg
END:VEVENT
BEGIN:VEVENT
DTSTART;VALUE=DATE:20220924
DTEND;VALUE=DATE:20230201
DTSTAMP:20260424T174047
CREATED:20220602T111852Z
LAST-MODIFIED:20240728T080902Z
UID:8753-1663977600-1675209599@filzundkraut.at
SUMMARY:Filzarbeiten im Fachl in den City Arkaden Klagenfurt
DESCRIPTION:Ab sofort sind meine nadelgefilzten Unikate im Fachl (Tiefparterre) in den City Arkaden in Klagenfurt erhältlich. Meine Arbeiten sind gegenüber der Kassa zu finden. Schaut gerne vorbei\, es wird immer wieder Neues geben!
URL:https://filzundkraut.at/event/filzarbeiten-im-fachl-in-den-city-arkaden-klagenfurt/
LOCATION:City Arkaden Klagenfurt\, Heuplatz 5\, Klagenfurt\, 9020\, Österreich
CATEGORIES:Ausstellungen
ATTACH;FMTTYPE=image/jpeg:https://filzundkraut.at/wp-content/uploads/2022/06/Fachl-Mai-2022.jpg
END:VEVENT
BEGIN:VEVENT
DTSTART;TZID=Europe/Berlin:20220924T080000
DTEND;TZID=Europe/Berlin:20221130T170000
DTSTAMP:20260424T174047
CREATED:20220924T180714Z
LAST-MODIFIED:20220924T180929Z
UID:8881-1664006400-1669827600@filzundkraut.at
SUMMARY:Herbstliche Filzarbeiten im Hofladen Wolin
DESCRIPTION:Im schönen Hofladen Wolin gibt es eine Auswahl meiner nadelgefilzten herbstlichen Arbeiten!
URL:https://filzundkraut.at/event/herbstliche-filzarbeiten-im-hofladen-wolin/
LOCATION:Wolin\, Feschnigstraße 102\, Klagenfurt\, 9020\, Österreich
CATEGORIES:Ausstellungen
ATTACH;FMTTYPE=image/jpeg:https://filzundkraut.at/wp-content/uploads/2016/05/20211013_062349_resized.jpg
END:VEVENT
BEGIN:VEVENT
DTSTART;TZID=Europe/Berlin:20221025T150000
DTEND;TZID=Europe/Berlin:20221025T170000
DTSTAMP:20260424T174047
CREATED:20221005T072812Z
LAST-MODIFIED:20221005T082742Z
UID:8896-1666710000-1666717200@filzundkraut.at
SUMMARY:Kräutererlebnis mit Spiel und Spaß
DESCRIPTION:Anmeldung bitte unbedingt erforderlich! \nWir erkunden die vor Ort wachsenden Wildkräuter und sammeln ein paar davon für unser Kräutersalz\, welches wir im Anschluss daran mörsern. Ein kleiner Kräuter-Duftgeist fürs Zimmer wird gebastelt\, ein Blumenbild aus echten Kräutern gestaltet und zwischendurch mit Bewegungsspielen und Kräuterspaß die Welt der Wildkräuter erfahren. \nDen Abschluss bildete eine gemeinsame Jause mit selbst hergestelltem Wildkräutertopfenaufstrich\, frischem Brot und regionalem Gemüse. \nTeilnehmergebühr pro Person 3\,- Euro für verwendet Materialien und Jause\, es fällt keine Kursgebühr an\, da dies über das Katholische Bildungswerk organisiert wird. \nAnmeldung erbeten unter: anita.wohlfahrt@gmx.at bzw. Pfarramt Viktring 0463-281044
URL:https://filzundkraut.at/event/kraeutererlebnis-mit-spiel-und-spass/
LOCATION:Stift Vikting\, Stift Viktring Straße 25\, Klagenfurt\, 9073\, Österreich
CATEGORIES:Wildkräuter
ATTACH;FMTTYPE=image/jpeg:https://filzundkraut.at/wp-content/uploads/2016/05/20211123_154018_resized.jpg
END:VEVENT
END:VCALENDAR