BEGIN:VCALENDAR
VERSION:2.0
PRODID:-//Filz und Kraut - ECPv6.15.20//NONSGML v1.0//EN
CALSCALE:GREGORIAN
METHOD:PUBLISH
X-ORIGINAL-URL:https://filzundkraut.at
X-WR-CALDESC:Veranstaltungen für Filz und Kraut
REFRESH-INTERVAL;VALUE=DURATION:PT1H
X-Robots-Tag:noindex
X-PUBLISHED-TTL:PT1H
BEGIN:VTIMEZONE
TZID:Europe/Berlin
BEGIN:DAYLIGHT
TZOFFSETFROM:+0100
TZOFFSETTO:+0200
TZNAME:CEST
DTSTART:20210328T010000
END:DAYLIGHT
BEGIN:STANDARD
TZOFFSETFROM:+0200
TZOFFSETTO:+0100
TZNAME:CET
DTSTART:20211031T010000
END:STANDARD
BEGIN:DAYLIGHT
TZOFFSETFROM:+0100
TZOFFSETTO:+0200
TZNAME:CEST
DTSTART:20220327T010000
END:DAYLIGHT
BEGIN:STANDARD
TZOFFSETFROM:+0200
TZOFFSETTO:+0100
TZNAME:CET
DTSTART:20221030T010000
END:STANDARD
BEGIN:DAYLIGHT
TZOFFSETFROM:+0100
TZOFFSETTO:+0200
TZNAME:CEST
DTSTART:20230326T010000
END:DAYLIGHT
BEGIN:STANDARD
TZOFFSETFROM:+0200
TZOFFSETTO:+0100
TZNAME:CET
DTSTART:20231029T010000
END:STANDARD
END:VTIMEZONE
BEGIN:VEVENT
DTSTART;VALUE=DATE:20220401
DTEND;VALUE=DATE:20220417
DTSTAMP:20260425T033451
CREATED:20220208T204256Z
LAST-MODIFIED:20220208T204334Z
UID:8533-1648771200-1650153599@filzundkraut.at
SUMMARY:Lovecrafted Märzklopfen City Arkaden Klagenfurt
DESCRIPTION:Von 1. bis 16. April findet ihr meine (österlichen) Filzarbeiten in den City Arkaden in Klagenfurt im Untergeschoss im Rahmen des Lovecrafted „Märzklopfen 2022“ in einer Verkaufsausstellung. \nAlle Artikel besitzen einen Barcode und können bei der zentralen Kassa bezahlt werden. \n 
URL:https://filzundkraut.at/event/lovecrafted-maerzklopfen-city-arkaden-klagenfurt/
LOCATION:City Arkaden Klagenfurt\, Heuplatz 5\, Klagenfurt\, 9020\, Österreich
CATEGORIES:Ausstellungen
ATTACH;FMTTYPE=image/jpeg:https://filzundkraut.at/wp-content/uploads/2016/05/20220115_221037_resized.jpg
END:VEVENT
BEGIN:VEVENT
DTSTART;TZID=Europe/Berlin:20220401T140000
DTEND;TZID=Europe/Berlin:20220401T180000
DTSTAMP:20260425T033451
CREATED:20201229T080901Z
LAST-MODIFIED:20220307T104053Z
UID:7871-1648821600-1648836000@filzundkraut.at
SUMMARY:Oster- bzw. Frühlingsfilzen\, Aktion 50+
DESCRIPTION:Ein Filzworkshop aus der Aktion 50+\, Mitten im Leben (Seniorenprogramm) der Stadt Klagenfurt. \nNach einer ausführlichen Info zum Thema Nadelfilzen\, Wolle- bzw.  Materialbeschaffung werden u.a. individuelle Ostereier\, (Oster)Hasen\, Küken\, Hühner\, Blüten\, Türkränze und Frühlingsschmuck gefilzt. Dabei bleiben die Hände trocken und sauber. Keine Vorkenntnisse nötig. Lassen Sie sich von der Filzsucht anstecken! \n Kursleiterin: Karin Müllner\, Filz & Kraut\, Filzbuchautorin \nKosten: 6 Euro Materialbeitrag \nDie gefertigten Werke inkl. einer Nadel und Filzunterlage dürfen mit nach Hause genommen werden.
URL:https://filzundkraut.at/event/oster-bzw-fruehlingsfilzen-aktion-50/
LOCATION:Europahaus Klagenfurt
CATEGORIES:Nadelfilzen
ATTACH;FMTTYPE=image/jpeg:https://filzundkraut.at/wp-content/uploads/2020/03/20190410_174851_resized.jpg
END:VEVENT
BEGIN:VEVENT
DTSTART;TZID=Europe/Berlin:20220408T140000
DTEND;TZID=Europe/Berlin:20220408T170000
DTSTAMP:20260425T033451
CREATED:20220113T063310Z
LAST-MODIFIED:20220307T171846Z
UID:8432-1649426400-1649437200@filzundkraut.at
SUMMARY:Familienworkshop Osterfilzen
DESCRIPTION:Im Diözesanhaus in Klagenfurt findet wieder das beliebte Osterfilzen für Familien mit mir stattfinden. \nMit diesem kreativen und entspannten Workshop möchte das Katholische Familienwerk dem Wunsch vieler Familien nachkommen. Der Fantasie sind (fast) keine Grenzen gesetzt. Wir filzen mit der Nadel\, die Hände bleiben sauber und alles darf natürlich mit nach Hause genommen werden. \nKosten: Materialkosten 6\,- Euro pro Person (alle Materialien im Kurs inkludiert) \nAnmeldung: Tel: 0676-8772-2440 bzw. ka.kfw@kath-kirche-kaernten.at
URL:https://filzundkraut.at/event/terminaviso-familienworkshop-osterfilzen/
LOCATION:Diözesanhaus Klagenfurt\, Tarviserstraße 30\, 9020 Klagenfurt\, Österreich
CATEGORIES:Nadelfilzen
ATTACH;FMTTYPE=image/jpeg:https://filzundkraut.at/wp-content/uploads/2020/03/20200314_065928_resized.jpg
END:VEVENT
BEGIN:VEVENT
DTSTART;TZID=Europe/Berlin:20220409T100000
DTEND;TZID=Europe/Berlin:20220409T170000
DTSTAMP:20260425T033451
CREATED:20220308T061210Z
LAST-MODIFIED:20220308T061448Z
UID:8703-1649498400-1649523600@filzundkraut.at
SUMMARY:Ostermarkt bei Leitgeb's Nudelfabrik
DESCRIPTION:Bei Leitgeb’s Nudelfabrik im Metznitztal findet ein Ostermarkt im Freien statt. Meine gefilzten Osterartikel werden dort ebenso zu finden sein\, wie gefilzte Tiere\, Filzhüllen\, befilzte Taschen und vieles mehr! \nUnd die Nudelverkostung bei Leitgebs ist natürlich ein Highlight! \n 
URL:https://filzundkraut.at/event/ostermarkt-bei-leitgebs-nudelfabrik/
LOCATION:Leitgeb’s Nudelspezialitäten\, Industriestraße 18\, Friesach\, 9360\, Österreich
CATEGORIES:Ausstellungen
ATTACH;FMTTYPE=image/jpeg:https://filzundkraut.at/wp-content/uploads/2016/05/20220228_202032-scaled.jpg
END:VEVENT
BEGIN:VEVENT
DTSTART;VALUE=DATE:20220418
DTEND;VALUE=DATE:20220419
DTSTAMP:20260425T033451
CREATED:20220208T200229Z
LAST-MODIFIED:20220208T200229Z
UID:8529-1650240000-1650326399@filzundkraut.at
SUMMARY:Ostermarkt in der Walderlebniswelt Klopeinersee
DESCRIPTION:Zwischen den vielen Attraktionen der Walderlebniswelt am Klopeinersee findet ein Kunsthandwerksmarkt mit eigenen Zelten statt. \nDetails folgen noch!
URL:https://filzundkraut.at/event/ostermarkt-in-der-walderlebniswelt-klopeinersee/
LOCATION:Walderlebniswelt Klopeiesee\, Schulstraße 8\, St. Kanzian\, 9122\, Österreich
CATEGORIES:Ausstellungen
ATTACH;FMTTYPE=image/jpeg:https://filzundkraut.at/wp-content/uploads/2020/04/20220121_072213_resized.jpg
END:VEVENT
BEGIN:VEVENT
DTSTART;TZID=Europe/Berlin:20220427T143000
DTEND;TZID=Europe/Berlin:20220427T173000
DTSTAMP:20260425T033451
CREATED:20220118T161750Z
LAST-MODIFIED:20220120T173131Z
UID:8461-1651069800-1651080600@filzundkraut.at
SUMMARY:Frühlingskräuterlustwandeln am Radsberg
DESCRIPTION:Wir erlernen gemeinsam das Bestimmen der wichtigsten Frühlings-Wildkräuter\, erfahren mehr über ihre Inhaltsstoffe und Wirkweisen\, besprechen viele praktische Anwendungsbeispiele und Rezepte. Dabei wandern wir einen kurzen Weg entlang dem Radsberg und machen uns gemeinsam auf die Suche. \nTreffpunkt: 14.30 Uhr beim Schlosswirt in Ebenthal\, von dort aus bilden wir Fahrgemeinschaften bzw. fahren im Konvoi auf den Radsberg. \nDie Veranstaltung findet bei Regen NICHT statt. \nAnmeldung: Karin Müllner\, Tel: 0676-4102893 bzw. info@filzundkraut.at \nUnkostenbeitrag: 10 Euro
URL:https://filzundkraut.at/event/terminaviso-fruehlingskraeuterlustwandeln-am-radsberg/
LOCATION:Radsberg\, Radsberg 4\, 9065 Ebenthal\, Kärnten\, Österreich
CATEGORIES:Wildkräuter
ATTACH;FMTTYPE=image/jpeg:https://filzundkraut.at/wp-content/uploads/2019/05/20190401_091409_resized.jpg
END:VEVENT
BEGIN:VEVENT
DTSTART;TZID=Europe/Berlin:20220429T143000
DTEND;TZID=Europe/Berlin:20220429T170000
DTSTAMP:20260425T033451
CREATED:20220209T104241Z
LAST-MODIFIED:20220421T062134Z
UID:8538-1651242600-1651251600@filzundkraut.at
SUMMARY:Wildkräutererlebnis-Nachmittag für Familien am Radsberg
DESCRIPTION:Welchen Zahn kann man essen\, wie kann man eine Brennnessel angreifen\, ohne dass sie brennt? Welche Pflanze hilft\, wenn mich eine Gelse gestochen hat? Diese und viele andere Rätselfragen werden wir gemeinsam lösen\, die entsprechenden Pflanzen suchen\, kennenlernen und benennen. \nDie erwachsenen Begleitpersonen bekommen reichlich Zusatzinfos zu den jeweiligen Pflanzen\, ihren Heilwirkungen und Anwendungen\, während die Kinder mit den Kräutern beschäftigt sind.\nGemeinsames Bestimmen und Sammeln von Wildkräutern\, ein schnelles Bewegungsspiel zur Kräutererkennung und das Gestalten eines individuellen Kräuterbildes zum Mitnehmen\nfür jede/n Teilnehmer/in stehen am Programm. \n10 Euro pro Erwachsenem\, 5 Euro pro Kind ab 3 Jahre (jüngere Kinder gratis) \nDauer: 2\,5 Stunden \nTreffpunkt Gasthof Schlosswirt/Ebenthal\, Konvoi-Fahrt zum Radsberg \nAnmeldung: Karin Müllner\, Filz & Kraut\, FNL-Kräuterexpertin\, FNL-Knospenexpertin \nTel: 0676-4102893 bzw. info@filzundkraut.at
URL:https://filzundkraut.at/event/wildkraeutererlebnis-nachmittag-fuer-familien-am-radsberg-3/
LOCATION:Radsberg\, Radsberg 4\, 9065 Ebenthal\, Kärnten\, Österreich
CATEGORIES:Wildkräuter
ATTACH;FMTTYPE=image/jpeg:https://filzundkraut.at/wp-content/uploads/2022/01/Kraeuter.jpg
END:VEVENT
END:VCALENDAR