BEGIN:VCALENDAR
VERSION:2.0
PRODID:-//Filz und Kraut - ECPv6.15.20//NONSGML v1.0//EN
CALSCALE:GREGORIAN
METHOD:PUBLISH
X-WR-CALNAME:Filz und Kraut
X-ORIGINAL-URL:https://filzundkraut.at
X-WR-CALDESC:Veranstaltungen für Filz und Kraut
REFRESH-INTERVAL;VALUE=DURATION:PT1H
X-Robots-Tag:noindex
X-PUBLISHED-TTL:PT1H
BEGIN:VTIMEZONE
TZID:Europe/Berlin
BEGIN:DAYLIGHT
TZOFFSETFROM:+0100
TZOFFSETTO:+0200
TZNAME:CEST
DTSTART:20210328T010000
END:DAYLIGHT
BEGIN:STANDARD
TZOFFSETFROM:+0200
TZOFFSETTO:+0100
TZNAME:CET
DTSTART:20211031T010000
END:STANDARD
BEGIN:DAYLIGHT
TZOFFSETFROM:+0100
TZOFFSETTO:+0200
TZNAME:CEST
DTSTART:20220327T010000
END:DAYLIGHT
BEGIN:STANDARD
TZOFFSETFROM:+0200
TZOFFSETTO:+0100
TZNAME:CET
DTSTART:20221030T010000
END:STANDARD
BEGIN:DAYLIGHT
TZOFFSETFROM:+0100
TZOFFSETTO:+0200
TZNAME:CEST
DTSTART:20230326T010000
END:DAYLIGHT
BEGIN:STANDARD
TZOFFSETFROM:+0200
TZOFFSETTO:+0100
TZNAME:CET
DTSTART:20231029T010000
END:STANDARD
END:VTIMEZONE
BEGIN:VEVENT
DTSTART;TZID=Europe/Berlin:20220316T143000
DTEND;TZID=Europe/Berlin:20220316T170000
DTSTAMP:20260425T051453
CREATED:20220305T210253Z
LAST-MODIFIED:20220306T070958Z
UID:8649-1647441000-1647450000@filzundkraut.at
SUMMARY:Knospenwanderung am Kreuzbergl
DESCRIPTION:Knospen erkennen\, benennen und selbst in der Gemmotherapie anwenden \nKnospen und Triebspitzen werden seit vielen hundert Jahren in der Volksheilkunde genutzt\, da sie eine ausgezeichnete Heil- und Regenerationskraft besitzen. Als ausgebildete FNL-Knospenexpertin möchte ich euch dieses Embryonalgewebe der Pflanzen näherbringen\, gemeinsam die wichtigsten Baum- und Sträucherknospen im heimischen Wald besprechen und die Gemmotherapie mit zahlreichen Anwendungsbeispielen erklären. Dabei sammeln wir unterwegs ein paar ausgewählte Knospen\, verkosten diese und setzen unser erstes Gemmomazerat gemeinsam an. Die Knospen können auch einfach in den täglichen Speiseplan eingebaut werden. \nDer Kursinhalt ist für Erwachsene ausgerichtet. \nBitte mitbringen: Brille oder Lupe (kleinen Knospen)\, Trinkflasche (zum Nachspülen falls nötig\, wir kosten die Knospen auch!) \nOrt:                      Kreuzbergl\, Treffpunkt Fischerwirt \nPreis:                   pro Person 29\,- Euro (im Kurspreis enthalten sind alle Materialien und\n                            eine umfangreiche Unterlage (inkl. Farbfotos der Knospen) \nAnmeldung:      Karin Müllner\, Tel: 0676-4102893\, info@filzundkraut.at
URL:https://filzundkraut.at/event/knospenwanderung-am-kreuzbergl/
LOCATION:Kreuzbergl\, Ziggulnstraße\, 9020\, Österreich
CATEGORIES:Wildkräuter
ATTACH;FMTTYPE=image/jpeg:https://filzundkraut.at/wp-content/uploads/2022/03/Gemeine-Esche.jpg
END:VEVENT
BEGIN:VEVENT
DTSTART;TZID=Europe/Berlin:20220322T143000
DTEND;TZID=Europe/Berlin:20220322T170000
DTSTAMP:20260425T051453
CREATED:20220305T205809Z
LAST-MODIFIED:20220315T112550Z
UID:8644-1647959400-1647968400@filzundkraut.at
SUMMARY:Knospenwanderung - Klagenfurt
DESCRIPTION:Knospen erkennen\, benennen und selbst in der Gemmotherapie anwenden \nKnospen und Triebspitzen werden seit vielen hundert Jahren in der Volksheilkunde genutzt\, da sie eine ausgezeichnete Heil- und Regenerationskraft besitzen. Als ausgebildete FNL-Knospenexpertin möchte ich euch dieses Embryonalgewebe der Pflanzen näherbringen\, gemeinsam die wichtigsten Baum- und Sträucherknospen im heimischen Wald besprechen und die Gemmotherapie mit zahlreichen Anwendungsbeispielen erklären. Dabei sammeln wir unterwegs ein paar ausgewählte Knospen\, verkosten diese und setzen unser erstes Gemmomazerat gemeinsam an. Die Knospen können auch einfach in den täglichen Speiseplan eingebaut werden. \nDer Kursinhalt ist für Erwachsene ausgerichtet. \n  \nBitte mitbringen: Brille oder Lupe (kleinen Knospen)\, Trinkflasche (zum Nachspülen falls nötig\, wir kosten die Knospen auch!) \nOrt:                      Kreuzbergl\, Treffpunkt Fischerwirt \nPreis:                   pro Person 29\,- Euro (im Kurspreis enthalten sind alle Materialien und eine umfangreiche Unterlage\n(inkl. Farbfotos der Knospen) \nAnmeldung:      Karin Müllner\, Tel: 0676-4102893\, info@filzundkraut.at
URL:https://filzundkraut.at/event/knospenwanderung-klagenfurt/
LOCATION:Kreuzbergl\, Ziggulnstraße\, 9020\, Österreich
CATEGORIES:Wildkräuter
ATTACH;FMTTYPE=image/jpeg:https://filzundkraut.at/wp-content/uploads/2022/03/Hainbuche2.jpg
END:VEVENT
BEGIN:VEVENT
DTSTART;TZID=Europe/Berlin:20220326T110000
DTEND;TZID=Europe/Berlin:20220327T160000
DTSTAMP:20260425T051453
CREATED:20220208T193112Z
LAST-MODIFIED:20220208T193129Z
UID:8512-1648292400-1648396800@filzundkraut.at
SUMMARY:Osterausstellung Dreifaltigkeit im Stadel
DESCRIPTION:Die Osterausstellung ist jeweils von 11.00 bis 16.00 Uhr in Dreifaltigkeit im Stadel geplant. \nDetails folgen demnächst!
URL:https://filzundkraut.at/event/osterausstellung-dreifaltigkeit-im-stadel/
LOCATION:Dreifaltigkeit\, Dreifaltigkeit am Gray 3\, St. Veit\, 9300\, Österreich
CATEGORIES:Ausstellungen
ATTACH;FMTTYPE=image/jpeg:https://filzundkraut.at/wp-content/uploads/2021/02/Ostereier2021.jpg
END:VEVENT
END:VCALENDAR