BEGIN:VCALENDAR
VERSION:2.0
PRODID:-//Filz und Kraut - ECPv6.15.20//NONSGML v1.0//EN
CALSCALE:GREGORIAN
METHOD:PUBLISH
X-WR-CALNAME:Filz und Kraut
X-ORIGINAL-URL:https://filzundkraut.at
X-WR-CALDESC:Veranstaltungen für Filz und Kraut
REFRESH-INTERVAL;VALUE=DURATION:PT1H
X-Robots-Tag:noindex
X-PUBLISHED-TTL:PT1H
BEGIN:VTIMEZONE
TZID:Europe/Berlin
BEGIN:DAYLIGHT
TZOFFSETFROM:+0100
TZOFFSETTO:+0200
TZNAME:CEST
DTSTART:20200329T010000
END:DAYLIGHT
BEGIN:STANDARD
TZOFFSETFROM:+0200
TZOFFSETTO:+0100
TZNAME:CET
DTSTART:20201025T010000
END:STANDARD
BEGIN:DAYLIGHT
TZOFFSETFROM:+0100
TZOFFSETTO:+0200
TZNAME:CEST
DTSTART:20210328T010000
END:DAYLIGHT
BEGIN:STANDARD
TZOFFSETFROM:+0200
TZOFFSETTO:+0100
TZNAME:CET
DTSTART:20211031T010000
END:STANDARD
BEGIN:DAYLIGHT
TZOFFSETFROM:+0100
TZOFFSETTO:+0200
TZNAME:CEST
DTSTART:20220327T010000
END:DAYLIGHT
BEGIN:STANDARD
TZOFFSETFROM:+0200
TZOFFSETTO:+0100
TZNAME:CET
DTSTART:20221030T010000
END:STANDARD
END:VTIMEZONE
BEGIN:VEVENT
DTSTART;TZID=Europe/Berlin:20210601T143000
DTEND;TZID=Europe/Berlin:20210601T170000
DTSTAMP:20260425T191032
CREATED:20210525T084155Z
LAST-MODIFIED:20210525T084404Z
UID:8009-1622557800-1622566800@filzundkraut.at
SUMMARY:Wildkräuter-Erlebnisnachmittag für Familien am Radsberg
DESCRIPTION:Welchen Zahn kann man essen\, wie kann man eine Brennnessel angreifen\, ohne dass sie brennt? Welche Pflanze hilft\, wenn mich eine Gelse gestochen hat? Diese und viele andere Rätselfragen werden wir gemeinsam lösen\, die entsprechenden Pflanzen suchen\, kennenlernen und benennen. Das Bestimmen und Sammeln von Wildkräutern\, ein\nschnelles Bewegungsspiel zur Kräutererkennung und das Gestalten eines individuellen Kräuterbildes zum Mitnehmen für jede/n Teilnehmer/in stehen am Programm\n\nCOVID-Maßnahmen (müssen von mir eingehalten werden):\n* Kleingruppe unter 11 Personen\n* Registrierung (verpflichtend nötig)\n* 3G-Regel muss eingehalten werden (geimpft\, genesen oder getestet mit Nachweis) – ein registrierter Selbsttest reicht aus!\nTreffpunkt: 14.30 Schlosswirt\, anschließend Weiterfahrt im Konvoi auf den Radsberg\, dort Start um 15.00 Uhr. \nTermin: 24.5. von 14.30 – ca. 17.00 Uhr \nLeitung: Karin Müllner\, Filz & Kraut \nKosten: 10€ pro Person\, Kinder ab 4 Jahren zahlen 5€ \nAnmeldung: info@filzundkraut.at bzw. Tel: 0676-4102893
URL:https://filzundkraut.at/event/wildkraeuter-erlebnisnachmittag-fuer-familien-am-radsberg/
LOCATION:Radsberg\, Radsberg 4\, 9065 Ebenthal\, Kärnten\, Österreich
CATEGORIES:Wildkräuter
ATTACH;FMTTYPE=image/jpeg:https://filzundkraut.at/wp-content/uploads/2020/09/Gänseblümchen.jpg
END:VEVENT
BEGIN:VEVENT
DTSTART;TZID=Europe/Berlin:20210604T170000
DTEND;TZID=Europe/Berlin:20210604T200000
DTSTAMP:20260425T191032
CREATED:20210525T091336Z
LAST-MODIFIED:20210525T091336Z
UID:8044-1622826000-1622836800@filzundkraut.at
SUMMARY:Sommermarkt in Krumpendorf
DESCRIPTION:Ich stehe\, wie jeden Freitag\, am Sommermarkt in Krumpendorf auf der Rathauswiese mit meinem eigenen Zelt gleich links beim Eingang zur Wiese. \nIhr findet bei mir nicht nur nadelgefilzte Unikate\, sondern heuer auch viele kunterbunte Stoffdrucksachen wie Geschirrtücher\, T-Shirts\, Tischläufer und Vieles mehr. \nIch freue mich auf Euren Besuch! \nDerzeit ist eine Registrierung und die 3-G-Regelung als Corona-Maßnahme beim Eingang NUR für den Besuch bzw. die Konsumation bei den Gastronomieständen am Markt nötig. Für einen reinen Einkauf bei uns Kunsthandwerkern ist dieser keine Voraussetzung!
URL:https://filzundkraut.at/event/sommermarkt-in-krumpendorf-2/
LOCATION:Krumpendorf Wiese\, Hauptstraße 145\, Krumpendorf\, Kärnten\, 9201\, Österreich
CATEGORIES:Ausstellungen
ATTACH;FMTTYPE=image/jpeg:https://filzundkraut.at/wp-content/uploads/2016/05/20200728_200314_resized_1.jpg
END:VEVENT
BEGIN:VEVENT
DTSTART;TZID=Europe/Berlin:20210611T170000
DTEND;TZID=Europe/Berlin:20210611T200000
DTSTAMP:20260425T191032
CREATED:20210602T045152Z
LAST-MODIFIED:20210602T045320Z
UID:8049-1623430800-1623441600@filzundkraut.at
SUMMARY:Sommermarkt Krumpendorf
DESCRIPTION:Ich stehe\, wie jeden Freitag\, am Sommermarkt in Krumpendorf auf der Rathauswiese mit meinem eigenen Zelt gleich links beim Eingang zur Wiese. \nIhr findet bei mir nicht nur nadelgefilzte Unikate\, sondern heuer auch viele kunterbunte Stoffdrucksachen wie Geschirrtücher\, T-Shirts\, Tischläufer und Vieles mehr. \nIch freue mich auf Euren Besuch! \nDerzeit ist eine Registrierung und die 3-G-Regelung als Corona-Maßnahme beim Eingang NUR für den Besuch bzw. die Konsumation bei den Gastronomieständen am Markt nötig. Für einen reinen Einkauf bei uns Kunsthandwerkern ist dieser keine Voraussetzung
URL:https://filzundkraut.at/event/sommermarkt-krumpendorf/
LOCATION:Krumpendorf Wiese\, Hauptstraße 145\, Krumpendorf\, Kärnten\, 9201\, Österreich
CATEGORIES:Ausstellungen
ATTACH;FMTTYPE=image/jpeg:https://filzundkraut.at/wp-content/uploads/2021/06/Pusteblume.jpg
END:VEVENT
BEGIN:VEVENT
DTSTART;TZID=Europe/Berlin:20210614T150000
DTEND;TZID=Europe/Berlin:20210614T170000
DTSTAMP:20260425T191032
CREATED:20210606T183056Z
LAST-MODIFIED:20210606T183056Z
UID:8070-1623682800-1623690000@filzundkraut.at
SUMMARY:Kräuterlustwandeln am Radsberg mit Verkostung
DESCRIPTION:Wir treffen uns am 14. Juni um 15.00 Uhr am Parkplatz vor dem Schlosswirt in Ebenthal und fahren anschließend im Konvoi auf den Radsberg. Dort begeben wir uns gemeinsam auf die Suche nach Wildkräuter\, besprechen diese im Detail und auch deren Verwendung. Gemeinsam sammeln wir einige der besprochenen Wildkräuter ein und am Ende der Führung gibt es einen Topfenaufstrich mit Brot und Gemüse zum Verkosten. \nUnterlagen zu den besprochenen Wildkräuter gibt es als Draufgabe! \nVor der Führung ist bitte die 3G-Regelung zu kontrollieren und eine Registrierung bei mir vor Ort nötig. Ich gehe in einer Kleingruppe ohne Maske\, es ist kein Problem im Freien genügend Abstand zu halten.
URL:https://filzundkraut.at/event/kraeuterlustwandeln-am-radsberg-mit-verkostung/
LOCATION:Radsberg\, Radsberg 4\, 9065 Ebenthal\, Kärnten\, Österreich
CATEGORIES:Wildkräuter
ATTACH;FMTTYPE=image/jpeg:https://filzundkraut.at/wp-content/uploads/2020/09/Gänseblümchen.jpg
END:VEVENT
BEGIN:VEVENT
DTSTART;TZID=Europe/Berlin:20210615T153000
DTEND;TZID=Europe/Berlin:20210615T183000
DTSTAMP:20260425T191032
CREATED:20210608T120232Z
LAST-MODIFIED:20210608T120330Z
UID:8081-1623771000-1623781800@filzundkraut.at
SUMMARY:Kreative Stunde mit Nadelfilzen und Nähen von Filzhüllen in Ferlach
DESCRIPTION:Der Arbeitskreis Tracht & Nadelspielerei lädt ein zur „KREATIVEN STUND“    \nKarin Müllner „Filz & Kraut“ & Barbara Oswald „schönding2312BOS“ \nmöchten mit EUCH nach der langen „Pause“ wieder textil-kreativ sein. \nAngeboten wird: \n\nDas Befilzen einer Buch- oder Notizhefthülle aus Filzstoff in der Nadelfilztechnik\nund die Verarbeitung = Zusammennähen mit der Nähmaschine\nSchlüsselanhänger und Lesezeichen können ebenso gefertigt werden\nImpfpasshüllen und kleine Filztiere u.v.m.\n\nJedes Stück ist ein Unikat und entsteht nach Euren Ideen! Lasst euch von unserer Nadelsucht anstecken! \nCorona-Maßnahmen:  \nDer Workshop findet unter den jeweils gültigen Corona-Maßnahmen ab einer Teilnehmerzahl von 3 Personen fix statt (Höchstzahl pro Termine 8 Personen inkl. Kinder) \nWorkshopbeitrag: \nEs entstehen Kosten in Höhe von 25\,- Euro pro Teilnehmer für einen 3-stündigen Workshop am Wunschtermin. Alle verwendeten Materialien (Filzstoffe\, Filzwolle\, kunterbunte Stoffe und Bänder zum Aufnähen auf den Filzstoff\, Filznadeln\, Filznterlagen\, Schlüsselanhänger und die Benützung sämtlicher Geräte wie Nähmaschinen etc.). \nDie fertigen Werkstücke dürfen selbstverständlich mit nach Hause genommen werden. \nTeilnahme von Kindern: \nDie Teilnahme von Kindern ab 6 Jahren ist nur in Begleitung eines Erwachsenen möglich. \n  \n\n\n+ GOOGLE KALENDER+ ICAL EXPORTIEREN
URL:https://filzundkraut.at/event/kreative-stunde-nadelfilzen-und-naehen-in-ferlach/
LOCATION:Ferlach Handwerkshaus\, Kirchgasse 14\, Ferlach\, Kärnten\, 9170\, Österreich
CATEGORIES:Nadelfilzen
ATTACH;FMTTYPE=image/jpeg:https://filzundkraut.at/wp-content/uploads/2021/05/20210524_164751.jpg
END:VEVENT
BEGIN:VEVENT
DTSTART;TZID=Europe/Berlin:20210616T143000
DTEND;TZID=Europe/Berlin:20210616T170000
DTSTAMP:20260425T191032
CREATED:20210525T084756Z
LAST-MODIFIED:20210602T141320Z
UID:8016-1623853800-1623862800@filzundkraut.at
SUMMARY:Wildkräuter-Erlebnisnachmittag für Familien
DESCRIPTION:Welchen Zahn kann man essen\, wie kann man eine Brennnessel angreifen\, ohne dass sie brennt? Welche Pflanze hilft\, wenn mich eine Gelse gestochen hat? Diese und viele andere Rätselfragen werden wir gemeinsam lösen\, die entsprechenden Pflanzen suchen\, kennenlernen und benennen. Das Bestimmen und Sammeln von Wildkräutern\, ein\nschnelles Bewegungsspiel zur Kräutererkennung und das Gestalten eines individuellen Kräuterbildes zum Mitnehmen für jede/n Teilnehmer/in stehen am Programm\n\nCOVID-Maßnahmen (müssen von mir eingehalten werden):\n* Kleingruppe unter 11 Personen\n* Registrierung (verpflichtend nötig)\n* 3G-Regel muss eingehalten werden (geimpft\, genesen oder getestet mit Nachweis) – ein registrierter Selbsttest reicht aus!\nTreffpunkt: 14.30 Schlosswirt\, anschließend Weiterfahrt im Konvoi auf den Radsberg\, dort Start um 15.00 Uhr. \nTermin: 16.06.. von 14.30 – ca. 17.00 Uhr \nLeitung: Karin Müllner\, Filz & Kraut \nKosten: 10€ pro Person\, Kinder ab 4 Jahren zahlen 5€ \nAnmeldung: info@filzundkraut.at bzw. Tel: 0676-4102893
URL:https://filzundkraut.at/event/wildkraeuter-erlebnisnachmittag-fuer-familien/
LOCATION:Radsberg\, Radsberg 4\, 9065 Ebenthal\, Kärnten\, Österreich
CATEGORIES:Wildkräuter
ATTACH;FMTTYPE=image/jpeg:https://filzundkraut.at/wp-content/uploads/2019/05/20190524_130548_resized.jpg
END:VEVENT
BEGIN:VEVENT
DTSTART;TZID=Europe/Berlin:20210618T170000
DTEND;TZID=Europe/Berlin:20210618T200000
DTSTAMP:20260425T191032
CREATED:20210602T045657Z
LAST-MODIFIED:20210602T045657Z
UID:8053-1624035600-1624046400@filzundkraut.at
SUMMARY:Sommermarkt Krumpendorf
DESCRIPTION:Ich stehe\, wie jeden Freitag\, am Sommermarkt in Krumpendorf auf der Rathauswiese mit meinem eigenen Zelt gleich links beim Eingang zur Wiese. \nIhr findet bei mir nicht nur nadelgefilzte Unikate\, sondern heuer auch viele kunterbunte Stoffdrucksachen wie Geschirrtücher\, T-Shirts\, Tischläufer und Vieles mehr. \nIch freue mich auf Euren Besuch! \nDerzeit ist eine Registrierung und die 3-G-Regelung als Corona-Maßnahme beim Eingang NUR für den Besuch bzw. die Konsumation bei den Gastronomieständen am Markt nötig. Für einen reinen Einkauf bei uns Kunsthandwerkern ist dieser keine Voraussetzung
URL:https://filzundkraut.at/event/sommermarkt-krumpendorf-2/
LOCATION:Krumpendorf Wiese\, Hauptstraße 145\, Krumpendorf\, Kärnten\, 9201\, Österreich
CATEGORIES:Ausstellungen
ATTACH;FMTTYPE=image/jpeg:https://filzundkraut.at/wp-content/uploads/2021/05/20210524_180150_resized_1.jpg
END:VEVENT
BEGIN:VEVENT
DTSTART;TZID=Europe/Berlin:20210622T153000
DTEND;TZID=Europe/Berlin:20210622T183000
DTSTAMP:20260425T191032
CREATED:20210525T090619Z
LAST-MODIFIED:20210525T090619Z
UID:8036-1624375800-1624386600@filzundkraut.at
SUMMARY:Kreative Stunde mit Nadelfilzen und Nähen von Filzhüllen
DESCRIPTION:Der Arbeitskreis Tracht & Nadelspielerei lädt ein zur „KREATIVEN STUND“    \nKarin Müllner „Filz & Kraut“ & Barbara Oswald „schönding2312BOS“ \nmöchten mit EUCH nach der langen „Pause“ wieder textil-kreativ sein. \nAngeboten wird: \n\nDas Befilzen einer Buch- oder Notizhefthülle aus Filzstoff in der Nadelfilztechnik\nund die Verarbeitung = Zusammennähen mit der Nähmaschine\nSchlüsselanhänger und Lesezeichen können ebenso gefertigt werden\nImpfpasshüllen und kleine Filztiere uvm.\n\nJedes Stück ist ein Unikat und entsteht nach Euren Ideen! Lasst euch von unserer Nadelsucht anstecken! \nCorona-Maßnahmen:  \nDer Workshop findet unter den jeweils gültigen Corona-Maßnahmen ab einer Teilnehmerzahl von 3 Personen fix statt (Höchstzahl pro Termine 8 Personen inkl. Kinder) \nWorkshopbeitrag: \nDer Workshop wird als Projekt durch den Kärntner Volkstanz- und Trachtenverband gefördert. Es entstehen somit nur Kosten in Höhe von 18\,- Euro pro Teilnehmer für einen 3-stündigen Workshop am Wunschtermin. Alle verwendeten Materialien (Filzstoffe\, Filzwolle\, kunterbunte Stoffe und Bänder zum Aufnähen auf den Filzstoff\, Filznadeln\, Filznterlagen\, Schlüsselanhänger und die Benützung sämtlicher Geräte wie Nähmaschinen etc.). \nDie fertigen Werkstücke dürfen selbstverständlich mit nach Hause genommen werden. \nTeilnahme von Kindern: \nDie Teilnahme von Kindern ab 6 Jahren ist nur in Begleitung eines Erwachsenen möglich. \nProjekt gefördert durch den Kärntner Volkstanz- und Trachtenverband
URL:https://filzundkraut.at/event/kreative-stunde-mit-nadelfilzen-und-naehen-von-filzhuellen-3/
LOCATION:Haus der Volkskultur\, Mießtalerstraße 6\, Klagenfurt\, 9020\, Österreich
CATEGORIES:Nadelfilzen
ATTACH;FMTTYPE=image/jpeg:https://filzundkraut.at/wp-content/uploads/2021/05/20210524_180150_resized_1.jpg
END:VEVENT
BEGIN:VEVENT
DTSTART;TZID=Europe/Berlin:20210624T153000
DTEND;TZID=Europe/Berlin:20210624T183000
DTSTAMP:20260425T191032
CREATED:20210608T120543Z
LAST-MODIFIED:20210608T120543Z
UID:8087-1624548600-1624559400@filzundkraut.at
SUMMARY:Kreative Stunde mit Nadelfilzen und Nähen von Filzhüllen in Ferlach
DESCRIPTION:Der Arbeitskreis Tracht & Nadelspielerei lädt ein zur „KREATIVEN STUND“    \nKarin Müllner „Filz & Kraut“ & Barbara Oswald „schönding2312BOS“ \nmöchten mit EUCH nach der langen „Pause“ wieder textil-kreativ sein. \nAngeboten wird: \n\nDas Befilzen einer Buch- oder Notizhefthülle aus Filzstoff in der Nadelfilztechnik\nund die Verarbeitung = Zusammennähen mit der Nähmaschine\nSchlüsselanhänger und Lesezeichen können ebenso gefertigt werden\nImpfpasshüllen und kleine Filztiere u.v.m.\n\nJedes Stück ist ein Unikat und entsteht nach Euren Ideen! Lasst euch von unserer Nadelsucht anstecken! \nCorona-Maßnahmen:  \nDer Workshop findet unter den jeweils gültigen Corona-Maßnahmen ab einer Teilnehmerzahl von 3 Personen fix statt (Höchstzahl pro Termine 8 Personen inkl. Kinder) \nWorkshopbeitrag: \nEs entstehen Kosten in Höhe von 25\,- Euro pro Teilnehmer für einen 3-stündigen Workshop am Wunschtermin. Alle verwendeten Materialien (Filzstoffe\, Filzwolle\, kunterbunte Stoffe und Bänder zum Aufnähen auf den Filzstoff\, Filznadeln\, Filznterlagen\, Schlüsselanhänger und die Benützung sämtlicher Geräte wie Nähmaschinen etc.). \nDie fertigen Werkstücke dürfen selbstverständlich mit nach Hause genommen werden. \nTeilnahme von Kindern: \nDie Teilnahme von Kindern ab 6 Jahren ist nur in Begleitung eines Erwachsenen möglich.
URL:https://filzundkraut.at/event/kreative-stunde-mit-nadelfilzen-und-naehen-von-filzhuellen-in-ferlach/
LOCATION:Ferlach Handwerkshaus\, Kirchgasse 14\, Ferlach\, Kärnten\, 9170\, Österreich
CATEGORIES:Nadelfilzen
ATTACH;FMTTYPE=image/jpeg:https://filzundkraut.at/wp-content/uploads/2021/05/20210524_180150_resized_1.jpg
END:VEVENT
END:VCALENDAR