BEGIN:VCALENDAR
VERSION:2.0
PRODID:-//Filz und Kraut - ECPv6.15.20//NONSGML v1.0//EN
CALSCALE:GREGORIAN
METHOD:PUBLISH
X-ORIGINAL-URL:https://filzundkraut.at
X-WR-CALDESC:Veranstaltungen für Filz und Kraut
REFRESH-INTERVAL;VALUE=DURATION:PT1H
X-Robots-Tag:noindex
X-PUBLISHED-TTL:PT1H
BEGIN:VTIMEZONE
TZID:Europe/Berlin
BEGIN:DAYLIGHT
TZOFFSETFROM:+0100
TZOFFSETTO:+0200
TZNAME:CEST
DTSTART:20200329T010000
END:DAYLIGHT
BEGIN:STANDARD
TZOFFSETFROM:+0200
TZOFFSETTO:+0100
TZNAME:CET
DTSTART:20201025T010000
END:STANDARD
BEGIN:DAYLIGHT
TZOFFSETFROM:+0100
TZOFFSETTO:+0200
TZNAME:CEST
DTSTART:20210328T010000
END:DAYLIGHT
BEGIN:STANDARD
TZOFFSETFROM:+0200
TZOFFSETTO:+0100
TZNAME:CET
DTSTART:20211031T010000
END:STANDARD
BEGIN:DAYLIGHT
TZOFFSETFROM:+0100
TZOFFSETTO:+0200
TZNAME:CEST
DTSTART:20220327T010000
END:DAYLIGHT
BEGIN:STANDARD
TZOFFSETFROM:+0200
TZOFFSETTO:+0100
TZNAME:CET
DTSTART:20221030T010000
END:STANDARD
END:VTIMEZONE
BEGIN:VEVENT
DTSTART;TZID=Europe/Berlin:20210416T143000
DTEND;TZID=Europe/Berlin:20210416T173000
DTSTAMP:20260425T215619
CREATED:20201229T081953Z
LAST-MODIFIED:20210414T080848Z
UID:7877-1618583400-1618594200@filzundkraut.at
SUMMARY:Frühlingskräuterlustwandeln\, Aktion 50+ - ABSAGE wegen Veranstaltungsverbot
DESCRIPTION:Leider ist derzeit weiterhin private Aus- und Weiterbildung auch im Freien untersagt. Daher muss diese Veranstaltung auf einen späteren Zeitpunkt verschoben werden. Sobald es einen Termin gibt\, wird dieser hier veröffentlicht! \n  \nWir erlernen gemeinsam das Bestimmen der wichtigsten Frühlings-Wildkräuter\, erfahren mehr über ihre Inhaltsstoffe und Wirkweisen\, besprechen viele praktische Anwendungsbeispiele und Rezepte. Dabei wandern wir einen kurzen Weg entlang am Radsberg und machen uns gemeinsam auf die Suche. \nMit den gesammelten Kräutern bereiten wir einen Wildkräuteraufstrich vor Ort zu und verkosten ihn gemeinsam.\nTreffpunkt: 14.30 Uhr beim Schlosswirt in Ebenthal\, von dort aus bilden wir Fahrgemeinschaften bzw. fahren im Konvoi auf den Radsberg. \nDie Veranstaltung findet bei Regen NICHT statt. \nAnmeldung: Tel: 0676-4102893 (Karin Müllner) bzw. info@filzundkraut.at\nKosten: 10\,- Euro inkl. Unterlagen und Verkostung
URL:https://filzundkraut.at/event/fruehlingskraeuterlustwandeln-aktion-50/
LOCATION:Radsberg\, Radsberg 4\, 9065 Ebenthal\, Kärnten\, Österreich
CATEGORIES:Wildkräuter
ATTACH;FMTTYPE=image/jpeg:https://filzundkraut.at/wp-content/uploads/2020/09/Gänseblümchen.jpg
END:VEVENT
END:VCALENDAR