BEGIN:VCALENDAR
VERSION:2.0
PRODID:-//Filz und Kraut - ECPv6.15.20//NONSGML v1.0//EN
CALSCALE:GREGORIAN
METHOD:PUBLISH
X-ORIGINAL-URL:https://filzundkraut.at
X-WR-CALDESC:Veranstaltungen für Filz und Kraut
REFRESH-INTERVAL;VALUE=DURATION:PT1H
X-Robots-Tag:noindex
X-PUBLISHED-TTL:PT1H
BEGIN:VTIMEZONE
TZID:Europe/Berlin
BEGIN:DAYLIGHT
TZOFFSETFROM:+0100
TZOFFSETTO:+0200
TZNAME:CEST
DTSTART:20240331T010000
END:DAYLIGHT
BEGIN:STANDARD
TZOFFSETFROM:+0200
TZOFFSETTO:+0100
TZNAME:CET
DTSTART:20241027T010000
END:STANDARD
BEGIN:DAYLIGHT
TZOFFSETFROM:+0100
TZOFFSETTO:+0200
TZNAME:CEST
DTSTART:20250330T010000
END:DAYLIGHT
BEGIN:STANDARD
TZOFFSETFROM:+0200
TZOFFSETTO:+0100
TZNAME:CET
DTSTART:20251026T010000
END:STANDARD
BEGIN:DAYLIGHT
TZOFFSETFROM:+0100
TZOFFSETTO:+0200
TZNAME:CEST
DTSTART:20260329T010000
END:DAYLIGHT
BEGIN:STANDARD
TZOFFSETFROM:+0200
TZOFFSETTO:+0100
TZNAME:CET
DTSTART:20261025T010000
END:STANDARD
BEGIN:DAYLIGHT
TZOFFSETFROM:+0100
TZOFFSETTO:+0200
TZNAME:CEST
DTSTART:20270328T010000
END:DAYLIGHT
BEGIN:STANDARD
TZOFFSETFROM:+0200
TZOFFSETTO:+0100
TZNAME:CET
DTSTART:20271031T010000
END:STANDARD
BEGIN:DAYLIGHT
TZOFFSETFROM:+0100
TZOFFSETTO:+0200
TZNAME:CEST
DTSTART:20280326T010000
END:DAYLIGHT
BEGIN:STANDARD
TZOFFSETFROM:+0200
TZOFFSETTO:+0100
TZNAME:CET
DTSTART:20281029T010000
END:STANDARD
END:VTIMEZONE
BEGIN:VEVENT
DTSTART;VALUE=DATE:20250501
DTEND;VALUE=DATE:20271101
DTSTAMP:20260422T122802
CREATED:20240829T055332Z
LAST-MODIFIED:20260115T151317Z
UID:9897-1746057600-1825027199@filzundkraut.at
SUMMARY:Präsentationsständer im "s`Fachl" City Arkaden Klagenfurt
DESCRIPTION:Seit über zwei Jahren findet ihr mich im Fachl in Klagenfurt in den City Arkaden im Tiefpaterre. Mein Präsentationsständer am Platz direkt neben der Kassa enthält neben saisonunabhängigen Produkten auch jahreszeitlich angepasste gefilzte Ware wie Ostereier\, Herbstdeko und weihnachtliche Elfen\, Kugleln und Vieles mehr. Darunter findet ihr immer ausgewählte Filzarbeiten und diverse Schlüsselanhänger von mir. Vorbeischauen lohnt sich\, es gibt immer wieder Neues zu entdecken!
URL:https://filzundkraut.at/event/zwei-fachl-im-sfachl-atrio-villach/
LOCATION:City Arkaden Klagenfurt\, Heuplatz 5\, Klagenfurt\, 9020\, Österreich
CATEGORIES:Ausstellungen
ATTACH;FMTTYPE=image/jpeg:https://filzundkraut.at/wp-content/uploads/2024/08/Fachl-1.jpg
END:VEVENT
BEGIN:VEVENT
DTSTART;TZID=Europe/Berlin:20251128T140000
DTEND;TZID=Europe/Berlin:20251128T180000
DTSTAMP:20260422T122802
CREATED:20210612T075450Z
LAST-MODIFIED:20250429T100541Z
UID:8106-1764338400-1764352800@filzundkraut.at
SUMMARY:Weihnachtliches Nadelfilzen 50+
DESCRIPTION:Weihnachtliches Filzen mit der Nadel \n  \nVier Stunden gemeinsames weihnachtliches Filzen mit der Nadel – ob Advent- oder Türkranz\, Krippenfiguren\, Schneemänner\, Weihnachtswichtel\, kleine Geschenke u.v.m. – keine Vorkenntnisse nötig. \n  \nLassen Sie sich von der Filzsucht anstecken. Die gefertigten Werke inkl. einer Nadel und Filzunterlage dürfen mit nach Hause genommen werden. \n  \nVortragende: Karin Müllner\, Filz & Kraut\, Filzbuchautorin \nKosten: 16\,- Euro inkl. Materialkosten pro Person (vor Ort zu bezahlen) \nDer Kurs findet ab einer Teilnehmerzahl von 10 Personen statt. \n  \nAnmeldung: Tel.: 0676-4102893 (Karin Müllner) bzw. info@filzundkraut.at
URL:https://filzundkraut.at/event/weihnachtliches-nadelfilzen-50/
LOCATION:Seniorenbüro Stadt Klagenfurt\, Lidmanskygasse 22\, Klagenfurt\, 9020\, Österreich
CATEGORIES:Nadelfilzen
ATTACH;FMTTYPE=image/jpeg:https://filzundkraut.at/wp-content/uploads/2016/05/Krippensatz-Pointhuber.jpg
END:VEVENT
END:VCALENDAR