BEGIN:VCALENDAR
VERSION:2.0
PRODID:-//Filz und Kraut - ECPv6.15.20//NONSGML v1.0//EN
CALSCALE:GREGORIAN
METHOD:PUBLISH
X-ORIGINAL-URL:https://filzundkraut.at
X-WR-CALDESC:Veranstaltungen für Filz und Kraut
REFRESH-INTERVAL;VALUE=DURATION:PT1H
X-Robots-Tag:noindex
X-PUBLISHED-TTL:PT1H
BEGIN:VTIMEZONE
TZID:Europe/Berlin
BEGIN:DAYLIGHT
TZOFFSETFROM:+0100
TZOFFSETTO:+0200
TZNAME:CEST
DTSTART:20210328T010000
END:DAYLIGHT
BEGIN:STANDARD
TZOFFSETFROM:+0200
TZOFFSETTO:+0100
TZNAME:CET
DTSTART:20211031T010000
END:STANDARD
BEGIN:DAYLIGHT
TZOFFSETFROM:+0100
TZOFFSETTO:+0200
TZNAME:CEST
DTSTART:20220327T010000
END:DAYLIGHT
BEGIN:STANDARD
TZOFFSETFROM:+0200
TZOFFSETTO:+0100
TZNAME:CET
DTSTART:20221030T010000
END:STANDARD
BEGIN:DAYLIGHT
TZOFFSETFROM:+0100
TZOFFSETTO:+0200
TZNAME:CEST
DTSTART:20230326T010000
END:DAYLIGHT
BEGIN:STANDARD
TZOFFSETFROM:+0200
TZOFFSETTO:+0100
TZNAME:CET
DTSTART:20231029T010000
END:STANDARD
END:VTIMEZONE
BEGIN:VEVENT
DTSTART;TZID=Europe/Berlin:20220506T080000
DTEND;TZID=Europe/Berlin:20220508T170000
DTSTAMP:20260425T033240
CREATED:20220317T095905Z
LAST-MODIFIED:20220317T095905Z
UID:8713-1651824000-1652029200@filzundkraut.at
SUMMARY:Kunsthandwerksausstellung St. Georgen am Längsee
DESCRIPTION:Heuer bin ich erstmals bei diesem wunderschönen Kunsthandwerksmarkt mit dabei. Ihr findet mit mit meinem eigenen Zelt im Innenhofbereich. \nAusstellungszeiten:\nFreitag\, 06. Mai\, von 10:00 bis 19:00 h\nSamstag\, 07. Mai\, von 10:00 bis 19:00 h\nSonntag\, 08. Mai\, von 10:00 bis 17:00 h \nIch freue mich auf Euer Kommen!
URL:https://filzundkraut.at/event/kunsthandwerksausstellung-st-georgen-am-laengsee/
LOCATION:St. George am Längsee\, Schlossallee 6\, St. Georgen\, 9313\, Österreich
CATEGORIES:Ausstellungen
ATTACH;FMTTYPE=image/jpeg:https://filzundkraut.at/wp-content/uploads/2022/01/20220119_181425.jpg
END:VEVENT
END:VCALENDAR