BEGIN:VCALENDAR
VERSION:2.0
PRODID:-//Filz und Kraut - ECPv6.15.20//NONSGML v1.0//EN
CALSCALE:GREGORIAN
METHOD:PUBLISH
X-WR-CALNAME:Filz und Kraut
X-ORIGINAL-URL:https://filzundkraut.at
X-WR-CALDESC:Veranstaltungen für Filz und Kraut
REFRESH-INTERVAL;VALUE=DURATION:PT1H
X-Robots-Tag:noindex
X-PUBLISHED-TTL:PT1H
BEGIN:VTIMEZONE
TZID:Europe/Berlin
BEGIN:DAYLIGHT
TZOFFSETFROM:+0100
TZOFFSETTO:+0200
TZNAME:CEST
DTSTART:20200329T010000
END:DAYLIGHT
BEGIN:STANDARD
TZOFFSETFROM:+0200
TZOFFSETTO:+0100
TZNAME:CET
DTSTART:20201025T010000
END:STANDARD
BEGIN:DAYLIGHT
TZOFFSETFROM:+0100
TZOFFSETTO:+0200
TZNAME:CEST
DTSTART:20210328T010000
END:DAYLIGHT
BEGIN:STANDARD
TZOFFSETFROM:+0200
TZOFFSETTO:+0100
TZNAME:CET
DTSTART:20211031T010000
END:STANDARD
BEGIN:DAYLIGHT
TZOFFSETFROM:+0100
TZOFFSETTO:+0200
TZNAME:CEST
DTSTART:20220327T010000
END:DAYLIGHT
BEGIN:STANDARD
TZOFFSETFROM:+0200
TZOFFSETTO:+0100
TZNAME:CET
DTSTART:20221030T010000
END:STANDARD
END:VTIMEZONE
BEGIN:VEVENT
DTSTART;TZID=Europe/Berlin:20211120T140000
DTEND;TZID=Europe/Berlin:20211120T190000
DTSTAMP:20260425T143113
CREATED:20211105T110453Z
LAST-MODIFIED:20211114T185211Z
UID:8287-1637416800-1637434800@filzundkraut.at
SUMMARY:Adventmarkt Gasthof Sonnhof St. Veit
DESCRIPTION:Auf der überdachten Terrasse des Gasthofes Sonnhof in St. Veit findet ein kleiner\, feiner Adventmarkt statt. \nBei Glühwein\, Feuerschale und selbst gemachtem Weihnachtsgebäck\, Kunsthandwerksmarkt und Eisvögel Miniatur Stinglschießen. \nIhr findet mich dort mit ausgewählten weihnachtlichen Filzarbeiten und Stoffdruck. \nEs gilt die 2G-Regel\, sie wird vor Ort kontrolliert. \nIch freue mich auf Euer Kommen!
URL:https://filzundkraut.at/event/adventmarkt-gasthof-sonnhof-st-veit/
LOCATION:Gasthof Sonnhof\, Völkermarkterstraße 37\, St. Veit\, 9300\, Österreich
CATEGORIES:Ausstellungen
ATTACH;FMTTYPE=image/jpeg:https://filzundkraut.at/wp-content/uploads/2020/11/Nikolo.jpg
END:VEVENT
END:VCALENDAR