BEGIN:VCALENDAR
VERSION:2.0
PRODID:-//Filz und Kraut - ECPv6.15.20//NONSGML v1.0//EN
CALSCALE:GREGORIAN
METHOD:PUBLISH
X-ORIGINAL-URL:https://filzundkraut.at
X-WR-CALDESC:Veranstaltungen für Filz und Kraut
REFRESH-INTERVAL;VALUE=DURATION:PT1H
X-Robots-Tag:noindex
X-PUBLISHED-TTL:PT1H
BEGIN:VTIMEZONE
TZID:Europe/Berlin
BEGIN:DAYLIGHT
TZOFFSETFROM:+0100
TZOFFSETTO:+0200
TZNAME:CEST
DTSTART:20200329T010000
END:DAYLIGHT
BEGIN:STANDARD
TZOFFSETFROM:+0200
TZOFFSETTO:+0100
TZNAME:CET
DTSTART:20201025T010000
END:STANDARD
BEGIN:DAYLIGHT
TZOFFSETFROM:+0100
TZOFFSETTO:+0200
TZNAME:CEST
DTSTART:20210328T010000
END:DAYLIGHT
BEGIN:STANDARD
TZOFFSETFROM:+0200
TZOFFSETTO:+0100
TZNAME:CET
DTSTART:20211031T010000
END:STANDARD
BEGIN:DAYLIGHT
TZOFFSETFROM:+0100
TZOFFSETTO:+0200
TZNAME:CEST
DTSTART:20220327T010000
END:DAYLIGHT
BEGIN:STANDARD
TZOFFSETFROM:+0200
TZOFFSETTO:+0100
TZNAME:CET
DTSTART:20221030T010000
END:STANDARD
END:VTIMEZONE
BEGIN:VEVENT
DTSTART;TZID=Europe/Berlin:20211014T090000
DTEND;TZID=Europe/Berlin:20211016T180000
DTSTAMP:20260425T143926
CREATED:20210810T054629Z
LAST-MODIFIED:20210810T054629Z
UID:8168-1634202000-1634407200@filzundkraut.at
SUMMARY:Kunsthandwerksmarkt St. Veit
DESCRIPTION:Am Hauptplatz von St. Veit findet von 14. bis 16. Oktober 2021 ein schöner Kunsthandwerksmarkt statt. Ich bin mit meinem eigenen Zelt dabei. Die Öffnungszeiten sind: \nDo: 9:00 – 18:00 Uhr\nFr: 9:00 – 18:00 Uhr\nSa: 9:00 – 15:00 Uhr \nIch freue mich sehr über Euren Besuch!
URL:https://filzundkraut.at/event/kunsthandwerksmarkt-st-veit/
LOCATION:St. Veit Hauptplatz\, Hauptplatz\, St. Veit\, 9300\, Österreich
CATEGORIES:Ausstellungen
ATTACH;FMTTYPE=image/jpeg:https://filzundkraut.at/wp-content/uploads/2020/08/Teddybär-mit-Herz.jpg
END:VEVENT
END:VCALENDAR