BEGIN:VCALENDAR
VERSION:2.0
PRODID:-//Filz und Kraut - ECPv6.15.20//NONSGML v1.0//EN
CALSCALE:GREGORIAN
METHOD:PUBLISH
X-ORIGINAL-URL:https://filzundkraut.at
X-WR-CALDESC:Veranstaltungen für Filz und Kraut
REFRESH-INTERVAL;VALUE=DURATION:PT1H
X-Robots-Tag:noindex
X-PUBLISHED-TTL:PT1H
BEGIN:VTIMEZONE
TZID:Europe/Berlin
BEGIN:DAYLIGHT
TZOFFSETFROM:+0100
TZOFFSETTO:+0200
TZNAME:CEST
DTSTART:20200329T010000
END:DAYLIGHT
BEGIN:STANDARD
TZOFFSETFROM:+0200
TZOFFSETTO:+0100
TZNAME:CET
DTSTART:20201025T010000
END:STANDARD
BEGIN:DAYLIGHT
TZOFFSETFROM:+0100
TZOFFSETTO:+0200
TZNAME:CEST
DTSTART:20210328T010000
END:DAYLIGHT
BEGIN:STANDARD
TZOFFSETFROM:+0200
TZOFFSETTO:+0100
TZNAME:CET
DTSTART:20211031T010000
END:STANDARD
BEGIN:DAYLIGHT
TZOFFSETFROM:+0100
TZOFFSETTO:+0200
TZNAME:CEST
DTSTART:20220327T010000
END:DAYLIGHT
BEGIN:STANDARD
TZOFFSETFROM:+0200
TZOFFSETTO:+0100
TZNAME:CET
DTSTART:20221030T010000
END:STANDARD
END:VTIMEZONE
BEGIN:VEVENT
DTSTART;TZID=Europe/Berlin:20211009T090000
DTEND;TZID=Europe/Berlin:20211009T120000
DTSTAMP:20260425T144053
CREATED:20210609T074217Z
LAST-MODIFIED:20210813T103902Z
UID:8090-1633770000-1633780800@filzundkraut.at
SUMMARY:Familienworkshop Nadelfilzen "Erntedank"
DESCRIPTION:Dieser Workshop findet im Diözesanhaus in Klagenfurt statt. Gemeinsames Nadelfilzen mit dem Thema „Erntedank“ von gefilzten Kürbissen über kleine flauschige Igel\, Blätter\, Eicheln u.v.m. \nMaterialkosten 6\,- Euro pro Person\, alle Materialien im Kurs inkludiert. \nAnmeldung unter: 0676/8772-2440 oder ka.kfw@kath-kirche-kaernten.at \n  \n 
URL:https://filzundkraut.at/event/familienworkshop-nadelfilzen-erntedank/
LOCATION:Diözesanhaus Klagenfurt\, Tarviserstraße 30\, 9020 Klagenfurt\, Österreich
CATEGORIES:Nadelfilzen
ATTACH;FMTTYPE=image/jpeg:https://filzundkraut.at/wp-content/uploads/2021/06/Familien-Filzen-WEB.jpg
END:VEVENT
END:VCALENDAR