BEGIN:VCALENDAR
VERSION:2.0
PRODID:-//Filz und Kraut - ECPv6.15.20//NONSGML v1.0//EN
CALSCALE:GREGORIAN
METHOD:PUBLISH
X-WR-CALNAME:Filz und Kraut
X-ORIGINAL-URL:https://filzundkraut.at
X-WR-CALDESC:Veranstaltungen für Filz und Kraut
REFRESH-INTERVAL;VALUE=DURATION:PT1H
X-Robots-Tag:noindex
X-PUBLISHED-TTL:PT1H
BEGIN:VTIMEZONE
TZID:Europe/Berlin
BEGIN:DAYLIGHT
TZOFFSETFROM:+0100
TZOFFSETTO:+0200
TZNAME:CEST
DTSTART:20200329T010000
END:DAYLIGHT
BEGIN:STANDARD
TZOFFSETFROM:+0200
TZOFFSETTO:+0100
TZNAME:CET
DTSTART:20201025T010000
END:STANDARD
BEGIN:DAYLIGHT
TZOFFSETFROM:+0100
TZOFFSETTO:+0200
TZNAME:CEST
DTSTART:20210328T010000
END:DAYLIGHT
BEGIN:STANDARD
TZOFFSETFROM:+0200
TZOFFSETTO:+0100
TZNAME:CET
DTSTART:20211031T010000
END:STANDARD
BEGIN:DAYLIGHT
TZOFFSETFROM:+0100
TZOFFSETTO:+0200
TZNAME:CEST
DTSTART:20220327T010000
END:DAYLIGHT
BEGIN:STANDARD
TZOFFSETFROM:+0200
TZOFFSETTO:+0100
TZNAME:CET
DTSTART:20221030T010000
END:STANDARD
END:VTIMEZONE
BEGIN:VEVENT
DTSTART;TZID=Europe/Berlin:20210701T080000
DTEND;TZID=Europe/Berlin:20210831T170000
DTSTAMP:20260425T174654
CREATED:20210602T051730Z
LAST-MODIFIED:20220307T212959Z
UID:8063-1625126400-1630429200@filzundkraut.at
SUMMARY:"FEINHEITEN" Design\, Kunst und Handwerk in den City Arkaden Klagenfurt
DESCRIPTION:Von 1. Juli bis 31. August findet ihr meine handgefilzten Unikate und ein paar ausgewählte Stoffdruckartikel von mir im Basement (Untergeschoss) der City Arkaden Klagenfurt im Rahmen der Kunsthandwerkspräsentation „FEINHEITEN“ im Mittelgang zu den normalen Öffnungszeiten von 9.00 bis 19.00 Uhr. \nAlle Artikel sind mit Barcode und Preis versehen\, können ausgewählt und bei der zentralen Kassa erworben werden. \nGerne erfülle ich gefilzte Sonderwünsche\, einfach bitte direkt an mich wenden: info@filzundkraut.at \n  \n 
URL:https://filzundkraut.at/event/design-kunst-und-handerwerk-feinheiten-in-den-city-arkaden-klagenfurt/
LOCATION:City Arkaden Klagenfurt\, Heuplatz 5\, Klagenfurt\, 9020\, Österreich
CATEGORIES:Ausstellungen
ATTACH;FMTTYPE=image/jpeg:https://filzundkraut.at/wp-content/uploads/2020/10/20201003_182504_resized.jpg
END:VEVENT
END:VCALENDAR