BEGIN:VCALENDAR
VERSION:2.0
PRODID:-//Filz und Kraut - ECPv6.15.20//NONSGML v1.0//EN
CALSCALE:GREGORIAN
METHOD:PUBLISH
X-ORIGINAL-URL:https://filzundkraut.at
X-WR-CALDESC:Veranstaltungen für Filz und Kraut
REFRESH-INTERVAL;VALUE=DURATION:PT1H
X-Robots-Tag:noindex
X-PUBLISHED-TTL:PT1H
BEGIN:VTIMEZONE
TZID:Europe/Berlin
BEGIN:DAYLIGHT
TZOFFSETFROM:+0100
TZOFFSETTO:+0200
TZNAME:CEST
DTSTART:20200329T010000
END:DAYLIGHT
BEGIN:STANDARD
TZOFFSETFROM:+0200
TZOFFSETTO:+0100
TZNAME:CET
DTSTART:20201025T010000
END:STANDARD
BEGIN:DAYLIGHT
TZOFFSETFROM:+0100
TZOFFSETTO:+0200
TZNAME:CEST
DTSTART:20210328T010000
END:DAYLIGHT
BEGIN:STANDARD
TZOFFSETFROM:+0200
TZOFFSETTO:+0100
TZNAME:CET
DTSTART:20211031T010000
END:STANDARD
BEGIN:DAYLIGHT
TZOFFSETFROM:+0100
TZOFFSETTO:+0200
TZNAME:CEST
DTSTART:20220327T010000
END:DAYLIGHT
BEGIN:STANDARD
TZOFFSETFROM:+0200
TZOFFSETTO:+0100
TZNAME:CET
DTSTART:20221030T010000
END:STANDARD
END:VTIMEZONE
BEGIN:VEVENT
DTSTART;TZID=Europe/Berlin:20210622T153000
DTEND;TZID=Europe/Berlin:20210622T183000
DTSTAMP:20260425T202636
CREATED:20210525T090619Z
LAST-MODIFIED:20210525T090619Z
UID:8036-1624375800-1624386600@filzundkraut.at
SUMMARY:Kreative Stunde mit Nadelfilzen und Nähen von Filzhüllen
DESCRIPTION:Der Arbeitskreis Tracht & Nadelspielerei lädt ein zur „KREATIVEN STUND“    \nKarin Müllner „Filz & Kraut“ & Barbara Oswald „schönding2312BOS“ \nmöchten mit EUCH nach der langen „Pause“ wieder textil-kreativ sein. \nAngeboten wird: \n\nDas Befilzen einer Buch- oder Notizhefthülle aus Filzstoff in der Nadelfilztechnik\nund die Verarbeitung = Zusammennähen mit der Nähmaschine\nSchlüsselanhänger und Lesezeichen können ebenso gefertigt werden\nImpfpasshüllen und kleine Filztiere uvm.\n\nJedes Stück ist ein Unikat und entsteht nach Euren Ideen! Lasst euch von unserer Nadelsucht anstecken! \nCorona-Maßnahmen:  \nDer Workshop findet unter den jeweils gültigen Corona-Maßnahmen ab einer Teilnehmerzahl von 3 Personen fix statt (Höchstzahl pro Termine 8 Personen inkl. Kinder) \nWorkshopbeitrag: \nDer Workshop wird als Projekt durch den Kärntner Volkstanz- und Trachtenverband gefördert. Es entstehen somit nur Kosten in Höhe von 18\,- Euro pro Teilnehmer für einen 3-stündigen Workshop am Wunschtermin. Alle verwendeten Materialien (Filzstoffe\, Filzwolle\, kunterbunte Stoffe und Bänder zum Aufnähen auf den Filzstoff\, Filznadeln\, Filznterlagen\, Schlüsselanhänger und die Benützung sämtlicher Geräte wie Nähmaschinen etc.). \nDie fertigen Werkstücke dürfen selbstverständlich mit nach Hause genommen werden. \nTeilnahme von Kindern: \nDie Teilnahme von Kindern ab 6 Jahren ist nur in Begleitung eines Erwachsenen möglich. \nProjekt gefördert durch den Kärntner Volkstanz- und Trachtenverband
URL:https://filzundkraut.at/event/kreative-stunde-mit-nadelfilzen-und-naehen-von-filzhuellen-3/
LOCATION:Haus der Volkskultur\, Mießtalerstraße 6\, Klagenfurt\, 9020\, Österreich
CATEGORIES:Nadelfilzen
ATTACH;FMTTYPE=image/jpeg:https://filzundkraut.at/wp-content/uploads/2021/05/20210524_180150_resized_1.jpg
END:VEVENT
END:VCALENDAR