BEGIN:VCALENDAR
VERSION:2.0
PRODID:-//Filz und Kraut - ECPv6.15.20//NONSGML v1.0//EN
CALSCALE:GREGORIAN
METHOD:PUBLISH
X-WR-CALNAME:Filz und Kraut
X-ORIGINAL-URL:https://filzundkraut.at
X-WR-CALDESC:Veranstaltungen für Filz und Kraut
REFRESH-INTERVAL;VALUE=DURATION:PT1H
X-Robots-Tag:noindex
X-PUBLISHED-TTL:PT1H
BEGIN:VTIMEZONE
TZID:Europe/Berlin
BEGIN:DAYLIGHT
TZOFFSETFROM:+0100
TZOFFSETTO:+0200
TZNAME:CEST
DTSTART:20200329T010000
END:DAYLIGHT
BEGIN:STANDARD
TZOFFSETFROM:+0200
TZOFFSETTO:+0100
TZNAME:CET
DTSTART:20201025T010000
END:STANDARD
BEGIN:DAYLIGHT
TZOFFSETFROM:+0100
TZOFFSETTO:+0200
TZNAME:CEST
DTSTART:20210328T010000
END:DAYLIGHT
BEGIN:STANDARD
TZOFFSETFROM:+0200
TZOFFSETTO:+0100
TZNAME:CET
DTSTART:20211031T010000
END:STANDARD
BEGIN:DAYLIGHT
TZOFFSETFROM:+0100
TZOFFSETTO:+0200
TZNAME:CEST
DTSTART:20220327T010000
END:DAYLIGHT
BEGIN:STANDARD
TZOFFSETFROM:+0200
TZOFFSETTO:+0100
TZNAME:CET
DTSTART:20221030T010000
END:STANDARD
END:VTIMEZONE
BEGIN:VEVENT
DTSTART;TZID=Europe/Berlin:20210601T143000
DTEND;TZID=Europe/Berlin:20210601T170000
DTSTAMP:20260425T202430
CREATED:20210525T084155Z
LAST-MODIFIED:20210525T084404Z
UID:8009-1622557800-1622566800@filzundkraut.at
SUMMARY:Wildkräuter-Erlebnisnachmittag für Familien am Radsberg
DESCRIPTION:Welchen Zahn kann man essen\, wie kann man eine Brennnessel angreifen\, ohne dass sie brennt? Welche Pflanze hilft\, wenn mich eine Gelse gestochen hat? Diese und viele andere Rätselfragen werden wir gemeinsam lösen\, die entsprechenden Pflanzen suchen\, kennenlernen und benennen. Das Bestimmen und Sammeln von Wildkräutern\, ein\nschnelles Bewegungsspiel zur Kräutererkennung und das Gestalten eines individuellen Kräuterbildes zum Mitnehmen für jede/n Teilnehmer/in stehen am Programm\n\nCOVID-Maßnahmen (müssen von mir eingehalten werden):\n* Kleingruppe unter 11 Personen\n* Registrierung (verpflichtend nötig)\n* 3G-Regel muss eingehalten werden (geimpft\, genesen oder getestet mit Nachweis) – ein registrierter Selbsttest reicht aus!\nTreffpunkt: 14.30 Schlosswirt\, anschließend Weiterfahrt im Konvoi auf den Radsberg\, dort Start um 15.00 Uhr. \nTermin: 24.5. von 14.30 – ca. 17.00 Uhr \nLeitung: Karin Müllner\, Filz & Kraut \nKosten: 10€ pro Person\, Kinder ab 4 Jahren zahlen 5€ \nAnmeldung: info@filzundkraut.at bzw. Tel: 0676-4102893
URL:https://filzundkraut.at/event/wildkraeuter-erlebnisnachmittag-fuer-familien-am-radsberg/
LOCATION:Radsberg\, Radsberg 4\, 9065 Ebenthal\, Kärnten\, Österreich
CATEGORIES:Wildkräuter
ATTACH;FMTTYPE=image/jpeg:https://filzundkraut.at/wp-content/uploads/2020/09/Gänseblümchen.jpg
END:VEVENT
END:VCALENDAR