BEGIN:VCALENDAR
VERSION:2.0
PRODID:-//Filz und Kraut - ECPv6.15.20//NONSGML v1.0//EN
CALSCALE:GREGORIAN
METHOD:PUBLISH
X-ORIGINAL-URL:https://filzundkraut.at
X-WR-CALDESC:Veranstaltungen für Filz und Kraut
REFRESH-INTERVAL;VALUE=DURATION:PT1H
X-Robots-Tag:noindex
X-PUBLISHED-TTL:PT1H
BEGIN:VTIMEZONE
TZID:Europe/Berlin
BEGIN:DAYLIGHT
TZOFFSETFROM:+0100
TZOFFSETTO:+0200
TZNAME:CEST
DTSTART:20200329T010000
END:DAYLIGHT
BEGIN:STANDARD
TZOFFSETFROM:+0200
TZOFFSETTO:+0100
TZNAME:CET
DTSTART:20201025T010000
END:STANDARD
BEGIN:DAYLIGHT
TZOFFSETFROM:+0100
TZOFFSETTO:+0200
TZNAME:CEST
DTSTART:20210328T010000
END:DAYLIGHT
BEGIN:STANDARD
TZOFFSETFROM:+0200
TZOFFSETTO:+0100
TZNAME:CET
DTSTART:20211031T010000
END:STANDARD
BEGIN:DAYLIGHT
TZOFFSETFROM:+0100
TZOFFSETTO:+0200
TZNAME:CEST
DTSTART:20220327T010000
END:DAYLIGHT
BEGIN:STANDARD
TZOFFSETFROM:+0200
TZOFFSETTO:+0100
TZNAME:CET
DTSTART:20221030T010000
END:STANDARD
END:VTIMEZONE
BEGIN:VEVENT
DTSTART;TZID=Europe/Berlin:20210515T090000
DTEND;TZID=Europe/Berlin:20210516T170000
DTSTAMP:20260425T215622
CREATED:20210430T053954Z
LAST-MODIFIED:20210430T054109Z
UID:7999-1621069200-1621184400@filzundkraut.at
SUMMARY:Kunst & Genuss\, Klagenfurter Kunsthandwerksmarkt
DESCRIPTION:Eine große Vielfalt an handgemachten Unikaten findet Ihr beim Kunst & Genussmarkt im Klagenfurter Progress Zentrum in Welzenegg. Ich bin mit meinen Filz- und Stoffdrucksachen dabei und freue mich auf Euch!
URL:https://filzundkraut.at/event/kunst-genuss-klagenfurter-kunsthandwerksmarkt/
LOCATION:Klagenfurt\, Dr. Richard Canavalgasse 110\, Klagenfurt\, 9020\, Österreich
CATEGORIES:Ausstellungen,Nadelfilzen
ATTACH;FMTTYPE=image/jpeg:https://filzundkraut.at/wp-content/uploads/2019/10/Igel2020.jpg
END:VEVENT
END:VCALENDAR