BEGIN:VCALENDAR
VERSION:2.0
PRODID:-//Filz und Kraut - ECPv6.15.20//NONSGML v1.0//EN
CALSCALE:GREGORIAN
METHOD:PUBLISH
X-WR-CALNAME:Filz und Kraut
X-ORIGINAL-URL:https://filzundkraut.at
X-WR-CALDESC:Veranstaltungen für Filz und Kraut
REFRESH-INTERVAL;VALUE=DURATION:PT1H
X-Robots-Tag:noindex
X-PUBLISHED-TTL:PT1H
BEGIN:VTIMEZONE
TZID:Europe/Berlin
BEGIN:DAYLIGHT
TZOFFSETFROM:+0100
TZOFFSETTO:+0200
TZNAME:CEST
DTSTART:20200329T010000
END:DAYLIGHT
BEGIN:STANDARD
TZOFFSETFROM:+0200
TZOFFSETTO:+0100
TZNAME:CET
DTSTART:20201025T010000
END:STANDARD
BEGIN:DAYLIGHT
TZOFFSETFROM:+0100
TZOFFSETTO:+0200
TZNAME:CEST
DTSTART:20210328T010000
END:DAYLIGHT
BEGIN:STANDARD
TZOFFSETFROM:+0200
TZOFFSETTO:+0100
TZNAME:CET
DTSTART:20211031T010000
END:STANDARD
BEGIN:DAYLIGHT
TZOFFSETFROM:+0100
TZOFFSETTO:+0200
TZNAME:CEST
DTSTART:20220327T010000
END:DAYLIGHT
BEGIN:STANDARD
TZOFFSETFROM:+0200
TZOFFSETTO:+0100
TZNAME:CET
DTSTART:20221030T010000
END:STANDARD
END:VTIMEZONE
BEGIN:VEVENT
DTSTART;TZID=Europe/Berlin:20210306T140000
DTEND;TZID=Europe/Berlin:20210306T170000
DTSTAMP:20260426T010352
CREATED:20210108T115755Z
LAST-MODIFIED:20210303T073906Z
UID:7929-1615039200-1615050000@filzundkraut.at
SUMMARY:Frühlings- bzw. Osterfilzen in Ferlach - STORNO wegen Veranstaltungsverbot
DESCRIPTION:Dieser Kurs muss leider storniert werden\, da es derzeit nicht erlaubt ist für Privatpersonen Weiterbildung in Präsenz anzubieten! Tut mir leid! \nNach einer ausführlichen Info zum Thema Nadelfilzen\, Wolle- bzw.  Materialbeschaffung werden u.a. individuelle Ostereier\, (Oster)Hasen\, Küken\, Hühner\, Blüten\, Türkränze und Frühlingsschmuck gefilzt. Dabei bleiben die Hände trocken und sauber. Keine Vorkenntnisse nötig. Jeder kann seine eigenen Ideen umsetzen und das Gefilzte mit nach Hause nehmen. Lassen Sie sich von der Filzsucht anstecken! \nKursleiterin: Karin Müllner\, Filz & Kraut\, Filzbuchautorin \nFür Personen mit und ohne Vorkenntnisse und Kinder ab 6 Jahren in Begleitung eines Erwachsenen geeignet. \n25\,- Euro pro Erwachsenem \n15\,- Euro pro Kind (Teilnahme nur in Begleitung eines Erwachsenen möglich) \n5\,- Euro pro Person (für Filzplatte\, Filznadeln\, freie Wollwahl und Hilfsmittel (Styropor etc.) \nAnmeldung: Unbedingt erforderlich\, begrenzte Teilnehmerzahl! info@filzundkraut.at oder Tel: 0676-4102893 (Fr. Müllner)
URL:https://filzundkraut.at/event/fruehlings-bzw-osterfilzen-in-ferlach-2/
LOCATION:Ferlach Handwerkshaus\, Kirchgasse 14\, Ferlach\, Kärnten\, 9170\, Österreich
CATEGORIES:Nadelfilzen
ATTACH;FMTTYPE=image/jpeg:https://filzundkraut.at/wp-content/uploads/2020/03/20200306_092225_resized_4.jpg
END:VEVENT
END:VCALENDAR