BEGIN:VCALENDAR
VERSION:2.0
PRODID:-//Filz und Kraut - ECPv6.15.20//NONSGML v1.0//EN
CALSCALE:GREGORIAN
METHOD:PUBLISH
X-ORIGINAL-URL:https://filzundkraut.at
X-WR-CALDESC:Veranstaltungen für Filz und Kraut
REFRESH-INTERVAL;VALUE=DURATION:PT1H
X-Robots-Tag:noindex
X-PUBLISHED-TTL:PT1H
BEGIN:VTIMEZONE
TZID:Europe/Berlin
BEGIN:DAYLIGHT
TZOFFSETFROM:+0100
TZOFFSETTO:+0200
TZNAME:CEST
DTSTART:20190331T010000
END:DAYLIGHT
BEGIN:STANDARD
TZOFFSETFROM:+0200
TZOFFSETTO:+0100
TZNAME:CET
DTSTART:20191027T010000
END:STANDARD
BEGIN:DAYLIGHT
TZOFFSETFROM:+0100
TZOFFSETTO:+0200
TZNAME:CEST
DTSTART:20200329T010000
END:DAYLIGHT
BEGIN:STANDARD
TZOFFSETFROM:+0200
TZOFFSETTO:+0100
TZNAME:CET
DTSTART:20201025T010000
END:STANDARD
BEGIN:DAYLIGHT
TZOFFSETFROM:+0100
TZOFFSETTO:+0200
TZNAME:CEST
DTSTART:20210328T010000
END:DAYLIGHT
BEGIN:STANDARD
TZOFFSETFROM:+0200
TZOFFSETTO:+0100
TZNAME:CET
DTSTART:20211031T010000
END:STANDARD
END:VTIMEZONE
BEGIN:VEVENT
DTSTART;VALUE=DATE:20201103
DTEND;VALUE=DATE:20210101
DTSTAMP:20260426T054530
CREATED:20201030T103239Z
LAST-MODIFIED:20220307T213021Z
UID:7557-1604361600-1609459199@filzundkraut.at
SUMMARY:Art & Crafts popup Shop CITY ARKADEN KLAGENFURT
DESCRIPTION:Ab 3.11.2020 bis 31.12.2020 findet ihr meine bereits weihnachtlichen Filzarbeiten wie Engel\, Krippenfiguren\, weihnachtliche Deko\, aber natürlich auch gefilzte Tiere\, Schlüsselanhänger\, Schmuck und Vieles mehr im Art & Crafts popup Store im Basement (Untergeschoss der City Arkaden im ehemaligen Dressman Geschäft). \nMeine Arbeiten sind durchgehend zu den normalen Öffnungszeiten der City Arkaden auch ohne meine persönliche Anwesenheit erhätltlich\, alle Artikel sind mit Preisen versehe.  Der popup store ist ein großes Geschäft mit vielen wunderschönen\, unterschiedlichen Kunsthandwerkserzeugnissen\, ein Ersatz für die heuer leider ausfallenden Kunsthandwerksmärkte. \nSchaut vorbei\, es ist bestimmt für jeden etwas Passendes dabei! \nEs gibt übrigens auch einige Taschen\, (Geschirr)tücher und Tischsets etc. mit Stoffdruckerei von mir heuer neu in meinem Programm.
URL:https://filzundkraut.at/event/art-crafts-popup-shop-city-arkaden-klagenfurt/
LOCATION:City Arkaden Klagenfurt\, Heuplatz 5\, Klagenfurt\, 9020\, Österreich
CATEGORIES:Ausstellungen
ATTACH;FMTTYPE=image/jpeg:https://filzundkraut.at/wp-content/uploads/2020/10/Engel-mit-Stern.jpg
END:VEVENT
BEGIN:VEVENT
DTSTART;TZID=Europe/Berlin:20201210T160000
DTEND;TZID=Europe/Berlin:20201210T190000
DTSTAMP:20260426T054530
CREATED:20200922T151934Z
LAST-MODIFIED:20201028T084417Z
UID:7528-1607616000-1607626800@filzundkraut.at
SUMMARY:Weihnachtliches Nadelfilzen
DESCRIPTION:Nadelgefilzte Schneemänner\, Krippenfiguren\, Weihnachtswichtel\, Engel\, weihnachtliche gefilzte Tür- und Adventkränze und kleine Weihnachtsgeschenke aus Schafwolle. Jeder kann seine eigenen Ideen umsetzen und das Gefilzte mit nach Hause nehmen. Lassen Sie sich von der Filzsucht anstecken. \nMindestteilnehmerzahl: 5 Personen \nMax. Teilnehmerzahl (Covid-Abstand): 6 Personen \nPreis pro Erwachsenem: 25 Euro \nTeilnahme Kinder: (Teilnahme ab 6 Jahre und nur in Begleitung eines Erwachsenen\, aufgrund der Verletzungsgefahr durch die Filznadel): 15\,- Euro \nMaterialkosten: 5\,- Euro pro Person (für Filzplatte\, Filznadeln\, freie Wollwahl und Hilfsmittel (Styropor etc.)
URL:https://filzundkraut.at/event/weihnachtliches-nadelfilzen-3/
LOCATION:Ferlach\, Gaston Glock Park\, Ferlach\, 9170\, Österreich
CATEGORIES:Nadelfilzen
ATTACH;FMTTYPE=image/jpeg:https://filzundkraut.at/wp-content/uploads/2019/10/Krippeneinheit.jpg
END:VEVENT
END:VCALENDAR